BEGIN:VCALENDAR
VERSION:2.0
PRODID:-//Eat Local Month 2026 - ECPv6.15.20//NONSGML v1.0//EN
CALSCALE:GREGORIAN
METHOD:PUBLISH
X-ORIGINAL-URL:https://www.eatlocalmonth.com.au
X-WR-CALDESC:Events for Eat Local Month 2026
REFRESH-INTERVAL;VALUE=DURATION:PT1H
X-Robots-Tag:noindex
X-PUBLISHED-TTL:PT1H
BEGIN:VTIMEZONE
TZID:Australia/Brisbane
BEGIN:STANDARD
TZOFFSETFROM:+1000
TZOFFSETTO:+1000
TZNAME:AEST
DTSTART:20250101T000000
END:STANDARD
END:VTIMEZONE
BEGIN:VEVENT
DTSTART;TZID=Australia/Brisbane:20260530T100000
DTEND;TZID=Australia/Brisbane:20260530T110000
DTSTAMP:20260423T033020
CREATED:20260414T172131Z
LAST-MODIFIED:20260415T143736Z
UID:10003672-1780135200-1780138800@www.eatlocalmonth.com.au
SUMMARY:Edible Flower Picking and Cupcake Decorating
DESCRIPTION:Enjoy a guided tour of the flower beds at Elderflower Farm\, learning all about edible flowers while handpicking your favourites. Then\, unleash your creativity by icing and decorating delicious cupcakes with your blooms\, ready to take home or enjoy on the day. \nExtra edible flowers can be taken home in a provided punnet.
URL:https://www.eatlocalmonth.com.au/event/edible-flower-picking-and-cupcake-decorating/2026-05-30/?category=workshops-and-experiences
LOCATION:Elderflower Farm\, 541 Kents Lagoon Rd\, Kents Lagoon\, QLD\, Australia
CATEGORIES:Workshops & Experiences
ATTACH;FMTTYPE=image/jpeg:https://www.eatlocalmonth.com.au/wp-content/uploads/2026/04/edible-flower-picking-and-cupcake-decorating-eat-local-month.jpg
ORGANIZER;CN="Elderflower Farm":MAILTO:rachel@elderflowerfarm.com.au
GEO:-27.8886872;152.6217038
X-APPLE-STRUCTURED-LOCATION;VALUE=URI;X-ADDRESS=Elderflower Farm 541 Kents Lagoon Rd Kents Lagoon QLD Australia;X-APPLE-RADIUS=500;X-TITLE=541 Kents Lagoon Rd:geo:152.6217038,-27.8886872
END:VEVENT
END:VCALENDAR