BEGIN:VCALENDAR
VERSION:2.0
PRODID:-//Eat Local Month 2026 - ECPv6.15.20//NONSGML v1.0//EN
CALSCALE:GREGORIAN
METHOD:PUBLISH
X-ORIGINAL-URL:https://www.eatlocalmonth.com.au
X-WR-CALDESC:Events for Eat Local Month 2026
REFRESH-INTERVAL;VALUE=DURATION:PT1H
X-Robots-Tag:noindex
X-PUBLISHED-TTL:PT1H
BEGIN:VTIMEZONE
TZID:Australia/Brisbane
BEGIN:STANDARD
TZOFFSETFROM:+1000
TZOFFSETTO:+1000
TZNAME:AEST
DTSTART:20250101T000000
END:STANDARD
END:VTIMEZONE
BEGIN:VEVENT
DTSTART;TZID=Australia/Brisbane:20260607T100000
DTEND;TZID=Australia/Brisbane:20260607T123000
DTSTAMP:20260423T063005
CREATED:20260414T172131Z
LAST-MODIFIED:20260415T143736Z
UID:10003726-1780826400-1780835400@www.eatlocalmonth.com.au
SUMMARY:Craft Spirit Distilling Workshop
DESCRIPTION:Experience the true craftsmanship of spirit-making as you go behind the scenes to create a unique spirit. Guided by Head Distiller Gordon Chalmers\, explore flavours\, botanicals\, and the distillation process before crafting a personalised 500ml bottle of rum\, gin\, brandy\, vodka\, or schnapps to take home. \nThe workshop includes a guided distillery tour\, tasting of the distillery’s finest spirits\, and a shared grazing board to enjoy throughout the session. Participants gain hands-on insight into flavour development\, operation of the still\, and the art and science behind craft spirit production. \nThis immersive experience is perfect for spirit enthusiasts\, curious creatives\, or anyone seeking a relaxed\, hands-on journey into the world of craft distilling.
URL:https://www.eatlocalmonth.com.au/event/craft-spirit-distilling-workshop/2026-06-07/?category=workshops-and-experiences
LOCATION:Tamborine Mountain Distillery\, 10 Macdonnell Rd\, Tamborine Mountain\, QLD\, Australia
CATEGORIES:Workshops & Experiences
ATTACH;FMTTYPE=image/jpeg:https://www.eatlocalmonth.com.au/wp-content/uploads/2026/04/craft-spirit-distilling-workshop-eat-local-month.jpg
ORGANIZER;CN="Tamborine Mountain Distillery":MAILTO:info@tamborinemountaindistillery.com
GEO:-27.9206131;153.1986812
X-APPLE-STRUCTURED-LOCATION;VALUE=URI;X-ADDRESS=Tamborine Mountain Distillery 10 Macdonnell Rd Tamborine Mountain QLD Australia;X-APPLE-RADIUS=500;X-TITLE=10 Macdonnell Rd:geo:153.1986812,-27.9206131
END:VEVENT
BEGIN:VEVENT
DTSTART;TZID=Australia/Brisbane:20260607T113000
DTEND;TZID=Australia/Brisbane:20260607T150000
DTSTAMP:20260423T063005
CREATED:20260414T172130Z
LAST-MODIFIED:20260422T064513Z
UID:10003693-1780831800-1780844400@www.eatlocalmonth.com.au
SUMMARY:Longest Lunch at O'Reilly's
DESCRIPTION:Kick off your shoes and sink your feet into the soft grass by Canungra Creek as you take your seat at O’Reilly’s Canungra Valley Vineyards’ famous Longest Lunch table. With the gentle sound of the creek as your backdrop\, bask in the sunshine and settle into an afternoon of indulgence and connection. \nEnjoy a sumptuous menu crafted by a passionate team of chefs\, featuring a starter\, two shared platter courses and a decadent dessert\, all showcasing the very best of the Scenic Rim’s local produce. Throughout the afternoon\, meet and hear from some of the region’s incredible producers as guest speakers share their stories and insights into the fresh ingredients featured on your plate. \nYour experience includes a three hour drinks package featuring O’Reilly’s full range of artisan wines\, craft beer\, soft drinks and juice\, with non alcoholic sparkling wine and beer also available. \nGuided by a specialist MC and complemented by live local music\, the Longest Lunch promises an unforgettable afternoon of fine food\, flowing drinks and regional pride\, a true celebration of community\, craftsmanship and the flavours that make the region so special. \nDownload the Menu
URL:https://www.eatlocalmonth.com.au/event/longest-lunch-at-oreillys/?category=lunches-and-dinners
LOCATION:O’Reilly’s Canungra Valley Vineyard\, 852 Lamington National Park Rd\, Canungra\, QLD
CATEGORIES:Lunches & Dinners
ATTACH;FMTTYPE=image/jpeg:https://www.eatlocalmonth.com.au/wp-content/uploads/2026/04/longest-lunch-at-oreillys-eat-local-month-1.jpg
ORGANIZER;CN="O'Reilly's Canungra Valley Vineyard":MAILTO:info@canungravineyards.com.au
END:VEVENT
END:VCALENDAR