BEGIN:VCALENDAR
VERSION:2.0
PRODID:-//Eat Local Month 2026 - ECPv6.15.20//NONSGML v1.0//EN
CALSCALE:GREGORIAN
METHOD:PUBLISH
X-WR-CALNAME:Eat Local Month 2026
X-ORIGINAL-URL:https://www.eatlocalmonth.com.au
X-WR-CALDESC:Events for Eat Local Month 2026
REFRESH-INTERVAL;VALUE=DURATION:PT1H
X-Robots-Tag:noindex
X-PUBLISHED-TTL:PT1H
BEGIN:VTIMEZONE
TZID:Australia/Brisbane
BEGIN:STANDARD
TZOFFSETFROM:+1000
TZOFFSETTO:+1000
TZNAME:AEST
DTSTART:20250101T000000
END:STANDARD
END:VTIMEZONE
BEGIN:VEVENT
DTSTART;TZID=Australia/Brisbane:20260605T113000
DTEND;TZID=Australia/Brisbane:20260605T143000
DTSTAMP:20260422T023117
CREATED:20260414T172130Z
LAST-MODIFIED:20260416T071016Z
UID:10003697-1780659000-1780669800@www.eatlocalmonth.com.au
SUMMARY:Progressive Paddock
DESCRIPTION:Step into a hands-on farm adventure as this progressive lunch meets a farm-to-table foraging twist. \nClimb aboard a 1979 LandCruiser Troop Carrier and tour the productive paddocks of Kalbar on a one-of-a-kind farm foraging adventure. Explore a series of fields\, each showcasing a unique ingredient\, and at each stop\, pick fresh produce\, savour a tasty snack\, and sip on a carefully paired drink. \nThe afternoon concludes in the picturesque gardens of Scenic Rim Farm Shop and Café\, where guests can relax over a delicious two-course meal featuring local farm-fresh favourites. Enjoy great company\, exquisite flavours\, and take home a basket of fresh produce for a full farm-to-table experience.
URL:https://www.eatlocalmonth.com.au/event/progressive-paddock/2026-06-05/?category=lunches-and-dinners
LOCATION:Scenic Rim Farm Shop & Café\, 541 Kents Lagoon Rd\, Kents Lagoon\, QLD
CATEGORIES:Lunches & Dinners,On Farm Adventures,Winter Harvest Weekend
ATTACH;FMTTYPE=image/jpeg:https://www.eatlocalmonth.com.au/wp-content/uploads/2026/04/progressive-paddock-eat-local-month.jpg
ORGANIZER;CN="Scenic Rim Farm Shop & Caf%C3%A9":MAILTO:enquiries@scenicrimfarmshop.com.au
END:VEVENT
END:VCALENDAR