BEGIN:VCALENDAR
VERSION:2.0
PRODID:-//Eat Local Month 2026 - ECPv6.15.20//NONSGML v1.0//EN
CALSCALE:GREGORIAN
METHOD:PUBLISH
X-WR-CALNAME:Eat Local Month 2026
X-ORIGINAL-URL:https://www.eatlocalmonth.com.au
X-WR-CALDESC:Events for Eat Local Month 2026
REFRESH-INTERVAL;VALUE=DURATION:PT1H
X-Robots-Tag:noindex
X-PUBLISHED-TTL:PT1H
BEGIN:VTIMEZONE
TZID:Australia/Brisbane
BEGIN:STANDARD
TZOFFSETFROM:+1000
TZOFFSETTO:+1000
TZNAME:AEST
DTSTART:20250101T000000
END:STANDARD
END:VTIMEZONE
BEGIN:VEVENT
DTSTART;TZID=Australia/Brisbane:20260606T090000
DTEND;TZID=Australia/Brisbane:20260606T120000
DTSTAMP:20260422T021904
CREATED:20260414T172130Z
LAST-MODIFIED:20260419T031136Z
UID:10003674-1780736400-1780747200@www.eatlocalmonth.com.au
SUMMARY:Farm Picnic with Highland Cattle
DESCRIPTION:Settle in on the picnic lawns at Northview Highlands for a relaxed\, country-style morning tea\, celebrating Scenic Rim produce\, friendly farm animals\, and sweeping mountain views. \nGuests are encouraged to bring a picnic rug or use the rugs and cushions provided onsite while enjoying a delicious locally sourced morning tea. Throughout the morning\, Highland cattle\, Valais Blacknose sheep\, and Pygmy goats will stroll through the picnic area\, giving families and visitors the chance to pat\, brush\, and photograph these gentle animals in a shared\, family-friendly experience. \nA kids’ corner and a local producer tasting table featuring honey\, jams\, and baked goods add to the easy-going atmosphere. This event is perfect for families\, couples\, or anyone wanting to slow down and enjoy a peaceful Scenic Rim morning on the farm. \nInclusions: \n\nCountry-style morning tea featuring locally sourced Scenic Rim produce\nInteract with Highland cattle\, Valais Blacknose sheep\, and Pygmy goats roaming the picnic lawns\nOpportunity to feed animals in adjoining paddocks\nPicnic rugs and cushions provided (guests may also bring their own)\nKids’ Corner activities and colouring-in books\nLocal producer tasting table showcasing Scenic Rim treats\nFarm photo spots around the lawn\nAccess to the farm shop for merchandise\, drinks\, and gifts
URL:https://www.eatlocalmonth.com.au/event/farm-picnic-with-highland-cattle/?category=family-friendly
LOCATION:Northview Highlands\, 223 Charlwood Rd\, Charlwood\, QLD
CATEGORIES:Family Friendly,On Farm Adventures,Workshops & Experiences
ATTACH;FMTTYPE=image/jpeg:https://www.eatlocalmonth.com.au/wp-content/uploads/2026/04/farm-picnic-with-highland-cattle-eat-local-month.jpg
ORGANIZER;CN="Northview Highlands":MAILTO:northviewhighlands@gmail.com
END:VEVENT
BEGIN:VEVENT
DTSTART;TZID=Australia/Brisbane:20260606T100000
DTEND;TZID=Australia/Brisbane:20260606T110000
DTSTAMP:20260422T021904
CREATED:20260414T172130Z
LAST-MODIFIED:20260415T143740Z
UID:10003706-1780740000-1780743600@www.eatlocalmonth.com.au
SUMMARY:Tour\, Taste and Camel Encounter
DESCRIPTION:Go behind-the-scenes at Australia’s largest camel farm and dairy for an unforgettable Tour\, Taste & Camel Encounter at Summer Land Camels. \nStep onto the farm and meet the gentle giants of the paddocks. Guests get up close with friendly camels of all ages\, including dairy camels\, weaners\, pregnant camels\, and adorable babies. Learn about their intelligence\, unique anatomy\, adaptability\, and the special bond they share with the skilled Cameleers who care for them. This is a highlight for visitors of all ages and a truly interactive\, family-friendly experience. \nTake a guided tour through the picturesque farm and into the Camel Dairy. Discover the fascinating history of camels in Australia and their important role in the country’s development. Explore the milking facilities and learn about the incredible health benefits of camel milk\, a nutrient-rich alternative perfect for those with dairy sensitivities. \nThe experience concludes with a tasting of Summer Land’s award-winning camel milk products\, including the famous Camel Milk Marinated Cheese and creamy gelato\, all made on-site. Guests can finish with a visit to the farm shop to explore more products and take home unique souvenirs. \nThis immersive experience offers a hands-on insight into the farm’s operations\, the camel milk industry\, and the care and dedication behind creating exceptional\, sustainable produce\, showing paddock-to-plate in action.
URL:https://www.eatlocalmonth.com.au/event/tour-taste-and-camel-encounter/2026-06-06/?category=family-friendly
LOCATION:Summer Land Camels\, 8 Charles Chauvel Dr\, Harrisville\, QLD\, Australia
CATEGORIES:Family Friendly,On Farm Adventures
ATTACH;FMTTYPE=image/jpeg:https://www.eatlocalmonth.com.au/wp-content/uploads/2026/04/tour-taste-and-camel-encounter-eat-local-month.jpg
ORGANIZER;CN="Summer Land Camels":MAILTO:info@summerlandcamels.com.au
GEO:-27.787956;152.6470228
X-APPLE-STRUCTURED-LOCATION;VALUE=URI;X-ADDRESS=Summer Land Camels 8 Charles Chauvel Dr Harrisville QLD Australia;X-APPLE-RADIUS=500;X-TITLE=8 Charles Chauvel Dr:geo:152.6470228,-27.787956
END:VEVENT
BEGIN:VEVENT
DTSTART;TZID=Australia/Brisbane:20260606T160000
DTEND;TZID=Australia/Brisbane:20260606T193000
DTSTAMP:20260422T021904
CREATED:20260414T172130Z
LAST-MODIFIED:20260415T143738Z
UID:10003678-1780761600-1780774200@www.eatlocalmonth.com.au
SUMMARY:Farm Tour and Sunset Dinner
DESCRIPTION:Enjoy a genuine paddock-to-plate experience at Heritage Farm in Harrisville. \nA behind-the-scenes pass to the daily operation of a working pastured poultry farm. Heritage Poultry raise award winning poultry on pasture and use heritage breeds to breed meat chickens especially suited to foraging and pasture. The birds are also able to be slow grown out longer for more flavour. View first-hand how the birds thrive on pasture and its benefits for the birds\, the pasture and the end product. They also breed American Bronze Turkeys which are a Heritage breed. These birds are also grown out longer on pasture and the flavour is incredible like Turkey used to taste. See how the other farm animals play an important role in combination with the poultry to improve the pasture. \nThen on sunset\, savour a premium dining experience with canapés by the fire\, followed by a long table dinner featuring award winning produce prepared by renowned chef and Scenic Rim Food Ambassador Richard Ousby.
URL:https://www.eatlocalmonth.com.au/event/farm-tour-and-sunset-dinner/?category=lunches-and-dinners
LOCATION:Heritage Poultry\, 57 Kalbar Peak Crossing Rd\, Harrisville\, QLD
CATEGORIES:Lunches & Dinners,On Farm Adventures
ATTACH;FMTTYPE=image/jpeg:https://www.eatlocalmonth.com.au/wp-content/uploads/2026/04/farm-tour-and-sunset-dinner-eat-local-month.jpg
ORGANIZER;CN="Heritage Poultry":MAILTO:info@heritagehatchingandhens.com.au
END:VEVENT
END:VCALENDAR