BEGIN:VCALENDAR
VERSION:2.0
PRODID:-//Eat Local Month 2026 - ECPv6.15.20//NONSGML v1.0//EN
CALSCALE:GREGORIAN
METHOD:PUBLISH
X-ORIGINAL-URL:https://www.eatlocalmonth.com.au
X-WR-CALDESC:Events for Eat Local Month 2026
REFRESH-INTERVAL;VALUE=DURATION:PT1H
X-Robots-Tag:noindex
X-PUBLISHED-TTL:PT1H
BEGIN:VTIMEZONE
TZID:Australia/Brisbane
BEGIN:STANDARD
TZOFFSETFROM:+1000
TZOFFSETTO:+1000
TZNAME:AEST
DTSTART:20250101T000000
END:STANDARD
END:VTIMEZONE
BEGIN:VEVENT
DTSTART;TZID=Australia/Brisbane:20260612T113000
DTEND;TZID=Australia/Brisbane:20260612T143000
DTSTAMP:20260422T065025
CREATED:20260414T172130Z
LAST-MODIFIED:20260416T071016Z
UID:10003763-1781263800-1781274600@www.eatlocalmonth.com.au
SUMMARY:Progressive Paddock
DESCRIPTION:Step into a hands-on farm adventure as this progressive lunch meets a farm-to-table foraging twist. \nClimb aboard a 1979 LandCruiser Troop Carrier and tour the productive paddocks of Kalbar on a one-of-a-kind farm foraging adventure. Explore a series of fields\, each showcasing a unique ingredient\, and at each stop\, pick fresh produce\, savour a tasty snack\, and sip on a carefully paired drink. \nThe afternoon concludes in the picturesque gardens of Scenic Rim Farm Shop and Café\, where guests can relax over a delicious two-course meal featuring local farm-fresh favourites. Enjoy great company\, exquisite flavours\, and take home a basket of fresh produce for a full farm-to-table experience.
URL:https://www.eatlocalmonth.com.au/event/progressive-paddock/2026-06-12/?category=lunches-and-dinners
LOCATION:Scenic Rim Farm Shop & Café\, 541 Kents Lagoon Rd\, Kents Lagoon\, QLD
CATEGORIES:Lunches & Dinners,On Farm Adventures,Winter Harvest Weekend
ATTACH;FMTTYPE=image/jpeg:https://www.eatlocalmonth.com.au/wp-content/uploads/2026/04/progressive-paddock-eat-local-month.jpg
ORGANIZER;CN="Scenic Rim Farm Shop & Caf%C3%A9":MAILTO:enquiries@scenicrimfarmshop.com.au
END:VEVENT
BEGIN:VEVENT
DTSTART;TZID=Australia/Brisbane:20260613T100000
DTEND;TZID=Australia/Brisbane:20260613T110000
DTSTAMP:20260422T065025
CREATED:20260414T172130Z
LAST-MODIFIED:20260415T143740Z
UID:10003746-1781344800-1781348400@www.eatlocalmonth.com.au
SUMMARY:Tour\, Taste and Camel Encounter
DESCRIPTION:Go behind-the-scenes at Australia’s largest camel farm and dairy for an unforgettable Tour\, Taste & Camel Encounter at Summer Land Camels. \nStep onto the farm and meet the gentle giants of the paddocks. Guests get up close with friendly camels of all ages\, including dairy camels\, weaners\, pregnant camels\, and adorable babies. Learn about their intelligence\, unique anatomy\, adaptability\, and the special bond they share with the skilled Cameleers who care for them. This is a highlight for visitors of all ages and a truly interactive\, family-friendly experience. \nTake a guided tour through the picturesque farm and into the Camel Dairy. Discover the fascinating history of camels in Australia and their important role in the country’s development. Explore the milking facilities and learn about the incredible health benefits of camel milk\, a nutrient-rich alternative perfect for those with dairy sensitivities. \nThe experience concludes with a tasting of Summer Land’s award-winning camel milk products\, including the famous Camel Milk Marinated Cheese and creamy gelato\, all made on-site. Guests can finish with a visit to the farm shop to explore more products and take home unique souvenirs. \nThis immersive experience offers a hands-on insight into the farm’s operations\, the camel milk industry\, and the care and dedication behind creating exceptional\, sustainable produce\, showing paddock-to-plate in action.
URL:https://www.eatlocalmonth.com.au/event/tour-taste-and-camel-encounter/2026-06-13/?category=family-friendly
LOCATION:Summer Land Camels\, 8 Charles Chauvel Dr\, Harrisville\, QLD\, Australia
CATEGORIES:Family Friendly,On Farm Adventures
ATTACH;FMTTYPE=image/jpeg:https://www.eatlocalmonth.com.au/wp-content/uploads/2026/04/tour-taste-and-camel-encounter-eat-local-month.jpg
ORGANIZER;CN="Summer Land Camels":MAILTO:info@summerlandcamels.com.au
GEO:-27.787956;152.6470228
X-APPLE-STRUCTURED-LOCATION;VALUE=URI;X-ADDRESS=Summer Land Camels 8 Charles Chauvel Dr Harrisville QLD Australia;X-APPLE-RADIUS=500;X-TITLE=8 Charles Chauvel Dr:geo:152.6470228,-27.787956
END:VEVENT
BEGIN:VEVENT
DTSTART;TZID=Australia/Brisbane:20260614T100000
DTEND;TZID=Australia/Brisbane:20260614T110000
DTSTAMP:20260422T065025
CREATED:20260414T172130Z
LAST-MODIFIED:20260415T143740Z
UID:10003747-1781431200-1781434800@www.eatlocalmonth.com.au
SUMMARY:Tour\, Taste and Camel Encounter
DESCRIPTION:Go behind-the-scenes at Australia’s largest camel farm and dairy for an unforgettable Tour\, Taste & Camel Encounter at Summer Land Camels. \nStep onto the farm and meet the gentle giants of the paddocks. Guests get up close with friendly camels of all ages\, including dairy camels\, weaners\, pregnant camels\, and adorable babies. Learn about their intelligence\, unique anatomy\, adaptability\, and the special bond they share with the skilled Cameleers who care for them. This is a highlight for visitors of all ages and a truly interactive\, family-friendly experience. \nTake a guided tour through the picturesque farm and into the Camel Dairy. Discover the fascinating history of camels in Australia and their important role in the country’s development. Explore the milking facilities and learn about the incredible health benefits of camel milk\, a nutrient-rich alternative perfect for those with dairy sensitivities. \nThe experience concludes with a tasting of Summer Land’s award-winning camel milk products\, including the famous Camel Milk Marinated Cheese and creamy gelato\, all made on-site. Guests can finish with a visit to the farm shop to explore more products and take home unique souvenirs. \nThis immersive experience offers a hands-on insight into the farm’s operations\, the camel milk industry\, and the care and dedication behind creating exceptional\, sustainable produce\, showing paddock-to-plate in action.
URL:https://www.eatlocalmonth.com.au/event/tour-taste-and-camel-encounter/2026-06-14/?category=family-friendly
LOCATION:Summer Land Camels\, 8 Charles Chauvel Dr\, Harrisville\, QLD\, Australia
CATEGORIES:Family Friendly,On Farm Adventures
ATTACH;FMTTYPE=image/jpeg:https://www.eatlocalmonth.com.au/wp-content/uploads/2026/04/tour-taste-and-camel-encounter-eat-local-month.jpg
ORGANIZER;CN="Summer Land Camels":MAILTO:info@summerlandcamels.com.au
GEO:-27.787956;152.6470228
X-APPLE-STRUCTURED-LOCATION;VALUE=URI;X-ADDRESS=Summer Land Camels 8 Charles Chauvel Dr Harrisville QLD Australia;X-APPLE-RADIUS=500;X-TITLE=8 Charles Chauvel Dr:geo:152.6470228,-27.787956
END:VEVENT
END:VCALENDAR