BEGIN:VCALENDAR
VERSION:2.0
PRODID:-//Eat Local Month 2026 - ECPv6.15.20//NONSGML v1.0//EN
CALSCALE:GREGORIAN
METHOD:PUBLISH
X-ORIGINAL-URL:https://www.eatlocalmonth.com.au
X-WR-CALDESC:Events for Eat Local Month 2026
REFRESH-INTERVAL;VALUE=DURATION:PT1H
X-Robots-Tag:noindex
X-PUBLISHED-TTL:PT1H
BEGIN:VTIMEZONE
TZID:Australia/Brisbane
BEGIN:STANDARD
TZOFFSETFROM:+1000
TZOFFSETTO:+1000
TZNAME:AEST
DTSTART:20250101T000000
END:STANDARD
END:VTIMEZONE
BEGIN:VEVENT
DTSTART;TZID=Australia/Brisbane:20260622T100000
DTEND;TZID=Australia/Brisbane:20260622T110000
DTSTAMP:20260422T035850
CREATED:20260414T172130Z
LAST-MODIFIED:20260415T143740Z
UID:10003751-1782122400-1782126000@www.eatlocalmonth.com.au
SUMMARY:Tour\, Taste and Camel Encounter
DESCRIPTION:Go behind-the-scenes at Australia’s largest camel farm and dairy for an unforgettable Tour\, Taste & Camel Encounter at Summer Land Camels. \nStep onto the farm and meet the gentle giants of the paddocks. Guests get up close with friendly camels of all ages\, including dairy camels\, weaners\, pregnant camels\, and adorable babies. Learn about their intelligence\, unique anatomy\, adaptability\, and the special bond they share with the skilled Cameleers who care for them. This is a highlight for visitors of all ages and a truly interactive\, family-friendly experience. \nTake a guided tour through the picturesque farm and into the Camel Dairy. Discover the fascinating history of camels in Australia and their important role in the country’s development. Explore the milking facilities and learn about the incredible health benefits of camel milk\, a nutrient-rich alternative perfect for those with dairy sensitivities. \nThe experience concludes with a tasting of Summer Land’s award-winning camel milk products\, including the famous Camel Milk Marinated Cheese and creamy gelato\, all made on-site. Guests can finish with a visit to the farm shop to explore more products and take home unique souvenirs. \nThis immersive experience offers a hands-on insight into the farm’s operations\, the camel milk industry\, and the care and dedication behind creating exceptional\, sustainable produce\, showing paddock-to-plate in action.
URL:https://www.eatlocalmonth.com.au/event/tour-taste-and-camel-encounter/2026-06-22/?category=family-friendly
LOCATION:Summer Land Camels\, 8 Charles Chauvel Dr\, Harrisville\, QLD\, Australia
CATEGORIES:Family Friendly,On Farm Adventures
ATTACH;FMTTYPE=image/jpeg:https://www.eatlocalmonth.com.au/wp-content/uploads/2026/04/tour-taste-and-camel-encounter-eat-local-month.jpg
ORGANIZER;CN="Summer Land Camels":MAILTO:info@summerlandcamels.com.au
GEO:-27.787956;152.6470228
X-APPLE-STRUCTURED-LOCATION;VALUE=URI;X-ADDRESS=Summer Land Camels 8 Charles Chauvel Dr Harrisville QLD Australia;X-APPLE-RADIUS=500;X-TITLE=8 Charles Chauvel Dr:geo:152.6470228,-27.787956
END:VEVENT
BEGIN:VEVENT
DTSTART;TZID=Australia/Brisbane:20260626T113000
DTEND;TZID=Australia/Brisbane:20260626T143000
DTSTAMP:20260422T035850
CREATED:20260414T172130Z
LAST-MODIFIED:20260416T071016Z
UID:10003765-1782473400-1782484200@www.eatlocalmonth.com.au
SUMMARY:Progressive Paddock
DESCRIPTION:Step into a hands-on farm adventure as this progressive lunch meets a farm-to-table foraging twist. \nClimb aboard a 1979 LandCruiser Troop Carrier and tour the productive paddocks of Kalbar on a one-of-a-kind farm foraging adventure. Explore a series of fields\, each showcasing a unique ingredient\, and at each stop\, pick fresh produce\, savour a tasty snack\, and sip on a carefully paired drink. \nThe afternoon concludes in the picturesque gardens of Scenic Rim Farm Shop and Café\, where guests can relax over a delicious two-course meal featuring local farm-fresh favourites. Enjoy great company\, exquisite flavours\, and take home a basket of fresh produce for a full farm-to-table experience.
URL:https://www.eatlocalmonth.com.au/event/progressive-paddock/2026-06-26/?category=lunches-and-dinners
LOCATION:Scenic Rim Farm Shop & Café\, 541 Kents Lagoon Rd\, Kents Lagoon\, QLD
CATEGORIES:Lunches & Dinners,On Farm Adventures,Winter Harvest Weekend
ATTACH;FMTTYPE=image/jpeg:https://www.eatlocalmonth.com.au/wp-content/uploads/2026/04/progressive-paddock-eat-local-month.jpg
ORGANIZER;CN="Scenic Rim Farm Shop & Caf%C3%A9":MAILTO:enquiries@scenicrimfarmshop.com.au
END:VEVENT
BEGIN:VEVENT
DTSTART;TZID=Australia/Brisbane:20260627T100000
DTEND;TZID=Australia/Brisbane:20260627T110000
DTSTAMP:20260422T035850
CREATED:20260414T172130Z
LAST-MODIFIED:20260415T143740Z
UID:10003752-1782554400-1782558000@www.eatlocalmonth.com.au
SUMMARY:Tour\, Taste and Camel Encounter
DESCRIPTION:Go behind-the-scenes at Australia’s largest camel farm and dairy for an unforgettable Tour\, Taste & Camel Encounter at Summer Land Camels. \nStep onto the farm and meet the gentle giants of the paddocks. Guests get up close with friendly camels of all ages\, including dairy camels\, weaners\, pregnant camels\, and adorable babies. Learn about their intelligence\, unique anatomy\, adaptability\, and the special bond they share with the skilled Cameleers who care for them. This is a highlight for visitors of all ages and a truly interactive\, family-friendly experience. \nTake a guided tour through the picturesque farm and into the Camel Dairy. Discover the fascinating history of camels in Australia and their important role in the country’s development. Explore the milking facilities and learn about the incredible health benefits of camel milk\, a nutrient-rich alternative perfect for those with dairy sensitivities. \nThe experience concludes with a tasting of Summer Land’s award-winning camel milk products\, including the famous Camel Milk Marinated Cheese and creamy gelato\, all made on-site. Guests can finish with a visit to the farm shop to explore more products and take home unique souvenirs. \nThis immersive experience offers a hands-on insight into the farm’s operations\, the camel milk industry\, and the care and dedication behind creating exceptional\, sustainable produce\, showing paddock-to-plate in action.
URL:https://www.eatlocalmonth.com.au/event/tour-taste-and-camel-encounter/2026-06-27/?category=family-friendly
LOCATION:Summer Land Camels\, 8 Charles Chauvel Dr\, Harrisville\, QLD\, Australia
CATEGORIES:Family Friendly,On Farm Adventures
ATTACH;FMTTYPE=image/jpeg:https://www.eatlocalmonth.com.au/wp-content/uploads/2026/04/tour-taste-and-camel-encounter-eat-local-month.jpg
ORGANIZER;CN="Summer Land Camels":MAILTO:info@summerlandcamels.com.au
GEO:-27.787956;152.6470228
X-APPLE-STRUCTURED-LOCATION;VALUE=URI;X-ADDRESS=Summer Land Camels 8 Charles Chauvel Dr Harrisville QLD Australia;X-APPLE-RADIUS=500;X-TITLE=8 Charles Chauvel Dr:geo:152.6470228,-27.787956
END:VEVENT
BEGIN:VEVENT
DTSTART;TZID=Australia/Brisbane:20260628T073000
DTEND;TZID=Australia/Brisbane:20260628T173000
DTSTAMP:20260422T035850
CREATED:20260414T172129Z
LAST-MODIFIED:20260419T030255Z
UID:10003677-1782631800-1782667800@www.eatlocalmonth.com.au
SUMMARY:Farm to Table Tour with Javier Codina
DESCRIPTION:Join Scenic Rim Food Ambassador Javier Codina for an exclusive full-day culinary adventure celebrating the producers who inspire his cooking. Begin with a delicious breakfast at Moda before boarding a private bus to explore the heart of the Scenic Rim. \nTour the region’s hero farms\, including Valley Pride Produce\, Heritage Poultry\, Summer Land Camels\, and Tommerup’s Dairy Farm. At each stop\, go behind-the-scenes\, hear the farmers’ stories\, and discover why Javier is proud to work with these local producers. Guests will enjoy interactive\, hands-on activities and witness Javier crafting dishes that showcase the exceptional produce sourced directly from each farm. \nThis exclusive experience is strictly limited and expected to sell out. Children’s tickets include a camel ride at Summer Land Camels.
URL:https://www.eatlocalmonth.com.au/event/farm-to-table-tour-with-javier-codina/?category=on-farm-adventures
LOCATION:Moda Steak . Tapas . Seasons\, Shop 22\, 61 Petrie Tce\, Brisbane\, QLD
CATEGORIES:On Farm Adventures,Winter Harvest Weekend,Workshops & Experiences
ATTACH;FMTTYPE=image/jpeg:https://www.eatlocalmonth.com.au/wp-content/uploads/2026/04/farm-to-table-tour-with-javier-codina-eat-local-month.jpg
ORGANIZER;CN="Moda Steak . Tapas . Seasons":MAILTO:functions@modarestaurant.com.au
END:VEVENT
BEGIN:VEVENT
DTSTART;TZID=Australia/Brisbane:20260628T090000
DTEND;TZID=Australia/Brisbane:20260628T130000
DTSTAMP:20260422T035850
CREATED:20260414T172130Z
LAST-MODIFIED:20260416T062139Z
UID:10003755-1782637200-1782651600@www.eatlocalmonth.com.au
SUMMARY:Veggie Picking with the Farmer
DESCRIPTION:Experience a hands-on day at Valley Pride Produce\, a fifth-generation family farm. Join the Scholl family\, who have been growing vegetables on this land for over a century\, with the sixth generation now proudly carrying on the legacy. Wander the paddocks alongside the family\, watch fresh produce being picked and harvested\, then roll up your sleeves to dig seasonal vegetables straight from the soil. \nThis family-friendly on-farm experience offers a genuine insight into life on the land and the journey from paddock-to-plate. Children will love getting their hands dirty and discovering where their food comes from\, while adults can pick up practical tips for growing\, cooking\, and living more locally. \nWith a deep respect for the land\, everything grown on the farm is thoughtfully used\, with produce transformed into conserves\, infusions\, and baked goods to minimise waste. \nRound off the day by taking home your handpicked vegetables for a fresh\, homegrown feast.
URL:https://www.eatlocalmonth.com.au/event/veggie-picking-with-the-farmer/2026-06-28/?category=family-friendly
LOCATION:Valley Pride Produce\, 83 Scholl Rd\, Charlwood\, QLD\, Australia
CATEGORIES:Family Friendly,On Farm Adventures,Winter Harvest Weekend
ATTACH;FMTTYPE=image/jpeg:https://www.eatlocalmonth.com.au/wp-content/uploads/2026/04/veggie-picking-with-the-farmer-eat-local-month.jpg
ORGANIZER;CN="Valley Pride Produce":MAILTO:antsfruit@hotmail.com
GEO:-27.9867708;152.5804525
X-APPLE-STRUCTURED-LOCATION;VALUE=URI;X-ADDRESS=Valley Pride Produce 83 Scholl Rd Charlwood QLD Australia;X-APPLE-RADIUS=500;X-TITLE=83 Scholl Rd:geo:152.5804525,-27.9867708
END:VEVENT
BEGIN:VEVENT
DTSTART;TZID=Australia/Brisbane:20260628T100000
DTEND;TZID=Australia/Brisbane:20260628T110000
DTSTAMP:20260422T035850
CREATED:20260414T172130Z
LAST-MODIFIED:20260415T143740Z
UID:10003753-1782640800-1782644400@www.eatlocalmonth.com.au
SUMMARY:Tour\, Taste and Camel Encounter
DESCRIPTION:Go behind-the-scenes at Australia’s largest camel farm and dairy for an unforgettable Tour\, Taste & Camel Encounter at Summer Land Camels. \nStep onto the farm and meet the gentle giants of the paddocks. Guests get up close with friendly camels of all ages\, including dairy camels\, weaners\, pregnant camels\, and adorable babies. Learn about their intelligence\, unique anatomy\, adaptability\, and the special bond they share with the skilled Cameleers who care for them. This is a highlight for visitors of all ages and a truly interactive\, family-friendly experience. \nTake a guided tour through the picturesque farm and into the Camel Dairy. Discover the fascinating history of camels in Australia and their important role in the country’s development. Explore the milking facilities and learn about the incredible health benefits of camel milk\, a nutrient-rich alternative perfect for those with dairy sensitivities. \nThe experience concludes with a tasting of Summer Land’s award-winning camel milk products\, including the famous Camel Milk Marinated Cheese and creamy gelato\, all made on-site. Guests can finish with a visit to the farm shop to explore more products and take home unique souvenirs. \nThis immersive experience offers a hands-on insight into the farm’s operations\, the camel milk industry\, and the care and dedication behind creating exceptional\, sustainable produce\, showing paddock-to-plate in action.
URL:https://www.eatlocalmonth.com.au/event/tour-taste-and-camel-encounter/2026-06-28/?category=family-friendly
LOCATION:Summer Land Camels\, 8 Charles Chauvel Dr\, Harrisville\, QLD\, Australia
CATEGORIES:Family Friendly,On Farm Adventures
ATTACH;FMTTYPE=image/jpeg:https://www.eatlocalmonth.com.au/wp-content/uploads/2026/04/tour-taste-and-camel-encounter-eat-local-month.jpg
ORGANIZER;CN="Summer Land Camels":MAILTO:info@summerlandcamels.com.au
GEO:-27.787956;152.6470228
X-APPLE-STRUCTURED-LOCATION;VALUE=URI;X-ADDRESS=Summer Land Camels 8 Charles Chauvel Dr Harrisville QLD Australia;X-APPLE-RADIUS=500;X-TITLE=8 Charles Chauvel Dr:geo:152.6470228,-27.787956
END:VEVENT
BEGIN:VEVENT
DTSTART;TZID=Australia/Brisbane:20260628T113000
DTEND;TZID=Australia/Brisbane:20260628T143000
DTSTAMP:20260422T035850
CREATED:20260414T172130Z
LAST-MODIFIED:20260416T071016Z
UID:10003766-1782646200-1782657000@www.eatlocalmonth.com.au
SUMMARY:Progressive Paddock
DESCRIPTION:Step into a hands-on farm adventure as this progressive lunch meets a farm-to-table foraging twist. \nClimb aboard a 1979 LandCruiser Troop Carrier and tour the productive paddocks of Kalbar on a one-of-a-kind farm foraging adventure. Explore a series of fields\, each showcasing a unique ingredient\, and at each stop\, pick fresh produce\, savour a tasty snack\, and sip on a carefully paired drink. \nThe afternoon concludes in the picturesque gardens of Scenic Rim Farm Shop and Café\, where guests can relax over a delicious two-course meal featuring local farm-fresh favourites. Enjoy great company\, exquisite flavours\, and take home a basket of fresh produce for a full farm-to-table experience.
URL:https://www.eatlocalmonth.com.au/event/progressive-paddock/2026-06-28/?category=lunches-and-dinners
LOCATION:Scenic Rim Farm Shop & Café\, 541 Kents Lagoon Rd\, Kents Lagoon\, QLD
CATEGORIES:Lunches & Dinners,On Farm Adventures,Winter Harvest Weekend
ATTACH;FMTTYPE=image/jpeg:https://www.eatlocalmonth.com.au/wp-content/uploads/2026/04/progressive-paddock-eat-local-month.jpg
ORGANIZER;CN="Scenic Rim Farm Shop & Caf%C3%A9":MAILTO:enquiries@scenicrimfarmshop.com.au
END:VEVENT
END:VCALENDAR