BEGIN:VCALENDAR
VERSION:2.0
PRODID:-//Eat Local Month 2026 - ECPv6.15.20//NONSGML v1.0//EN
CALSCALE:GREGORIAN
METHOD:PUBLISH
X-WR-CALNAME:Eat Local Month 2026
X-ORIGINAL-URL:https://www.eatlocalmonth.com.au
X-WR-CALDESC:Events for Eat Local Month 2026
REFRESH-INTERVAL;VALUE=DURATION:PT1H
X-Robots-Tag:noindex
X-PUBLISHED-TTL:PT1H
BEGIN:VTIMEZONE
TZID:Australia/Brisbane
BEGIN:STANDARD
TZOFFSETFROM:+1000
TZOFFSETTO:+1000
TZNAME:AEST
DTSTART:20250101T000000
END:STANDARD
END:VTIMEZONE
BEGIN:VEVENT
DTSTART;TZID=Australia/Brisbane:20260606T173000
DTEND;TZID=Australia/Brisbane:20260606T203000
DTSTAMP:20260423T075607
CREATED:20260414T172130Z
LAST-MODIFIED:20260415T143736Z
UID:10003662-1780767000-1780777800@www.eatlocalmonth.com.au
SUMMARY:Candlelit Dinner by The Piano
DESCRIPTION:Step into an intimate candlelit evening at The Overflow Estate 1895\, where soft piano music sets the mood. Savour a five-course dinner of regionally inspired dishes\, celebrating the flavours of the Scenic Rim. Relax\, dine\, and enjoy a memorable night with friends and loved ones in this stunning vineyard setting.
URL:https://www.eatlocalmonth.com.au/event/candlelit-dinner-by-the-piano/2026-06-06/?category=lunches-and-dinners
LOCATION:Roastbeef and The Frog\, The Overflow Estate 1895\, 1660 Beaudesert Boonah Rd\, Wyaralong\, QLD\, Australia
CATEGORIES:Lunches & Dinners
ATTACH;FMTTYPE=image/jpeg:https://www.eatlocalmonth.com.au/wp-content/uploads/2026/04/candlelit-dinner-by-the-piano-eat-local-month.jpg
ORGANIZER;CN="Roastbeef and The Frog":MAILTO:contact@roastbeefandthefrog.com.au
GEO:-27.9444799;152.8607018
X-APPLE-STRUCTURED-LOCATION;VALUE=URI;X-ADDRESS=Roastbeef and The Frog The Overflow Estate 1895 1660 Beaudesert Boonah Rd Wyaralong QLD Australia;X-APPLE-RADIUS=500;X-TITLE=The Overflow Estate 1895\, 1660 Beaudesert Boonah Rd:geo:152.8607018,-27.9444799
END:VEVENT
BEGIN:VEVENT
DTSTART;TZID=Australia/Brisbane:20260612T110000
DTEND;TZID=Australia/Brisbane:20260612T170000
DTSTAMP:20260423T075607
CREATED:20260414T172130Z
LAST-MODIFIED:20260415T143736Z
UID:10003667-1781262000-1781283600@www.eatlocalmonth.com.au
SUMMARY:Clydesdale Spectacular Raceday Luncheon
DESCRIPTION:Celebrate race day in style at the Clydesdale Spectacular Raceday\, hosted at Beaudesert Race Club. Enjoy a relaxing long lunch overlooking the racecourse to the north and the stunning Ilbogan Lagoon to the south. Share a beautiful winter’s day with friends\, dressed in colourful hats and fascinators\, while savouring a three-course meal crafted by Scenic Rim Food Ambassador Josue Lopez. \nThe menu highlights the very best of the Scenic Rim’s local producers and farmers\, showcasing award-winning flavours designed to complement a day at the races. Enhance your experience with a five-hour drinks package\, making it a truly memorable celebration of country hospitality\, fine food\, and the thrill of the track.
URL:https://www.eatlocalmonth.com.au/event/clydesdale-spectacular-raceday-luncheon/?category=lunches-and-dinners
LOCATION:Beaudesert Race Club\, Beaudesert Boonah Rd\, Beaudesert\, QLD\, Australia
CATEGORIES:Lunches & Dinners
ATTACH;FMTTYPE=image/jpeg:https://www.eatlocalmonth.com.au/wp-content/uploads/2026/04/clydesdale-spectacular-raceday-luncheon-eat-local-month.jpg
ORGANIZER;CN="Boonah Progress Inc.":MAILTO:info@clydesdalespectacular.com.au
END:VEVENT
BEGIN:VEVENT
DTSTART;TZID=Australia/Brisbane:20260612T120000
DTEND;TZID=Australia/Brisbane:20260612T150000
DTSTAMP:20260423T075607
CREATED:20260414T172131Z
LAST-MODIFIED:20260415T143738Z
UID:10003742-1781265600-1781276400@www.eatlocalmonth.com.au
SUMMARY:Long Lunch by the Vineyard
DESCRIPTION:Taste your way through a delicious five-course long lunch in a stunning vineyard setting overlooking Lake Wyaralong\, curated by Roastbeef and The Frog at The Overflow Estate 1895. Guests are invited to experience a refined\, regionally inspired dining event celebrating local produce and thoughtful craftsmanship\, with each course carefully paired with wines from the estate and select local producers. It’s the perfect winter day experience to share with family and friends.
URL:https://www.eatlocalmonth.com.au/event/long-lunch-by-the-vineyard/2026-06-12/?category=lunches-and-dinners
LOCATION:Roastbeef and The Frog\, The Overflow Estate 1895\, 1660 Beaudesert Boonah Rd\, Wyaralong\, QLD\, Australia
CATEGORIES:Lunches & Dinners
ATTACH;FMTTYPE=image/jpeg:https://www.eatlocalmonth.com.au/wp-content/uploads/2026/04/long-lunch-by-the-vineyard-eat-local-month.jpg
ORGANIZER;CN="Roastbeef and The Frog":MAILTO:contact@roastbeefandthefrog.com.au
GEO:-27.9444799;152.8607018
X-APPLE-STRUCTURED-LOCATION;VALUE=URI;X-ADDRESS=Roastbeef and The Frog The Overflow Estate 1895 1660 Beaudesert Boonah Rd Wyaralong QLD Australia;X-APPLE-RADIUS=500;X-TITLE=The Overflow Estate 1895\, 1660 Beaudesert Boonah Rd:geo:152.8607018,-27.9444799
END:VEVENT
BEGIN:VEVENT
DTSTART;TZID=Australia/Brisbane:20260615T120000
DTEND;TZID=Australia/Brisbane:20260615T150000
DTSTAMP:20260423T075608
CREATED:20260414T172129Z
LAST-MODIFIED:20260415T143736Z
UID:10003658-1781524800-1781535600@www.eatlocalmonth.com.au
SUMMARY:100% Roastbeef with Jake Hatch
DESCRIPTION:Set against picturesque vineyard views\, this exclusive long lunch at The Overflow Estate 1895 invites guests to settle in for a refined and memorable Eat Local Month experience. \nCreated especially for the occasion\, the one-off five-course menu\, curated by Jake Hatch\, showcases his personal style and creativity. Each course highlights seasonal ingredients from the Scenic Rim and surrounding regions\, thoughtfully prepared to reflect the flavours and character of the landscape. \nPaired with wines from The Overflow Estate and local producers\, this immersive dining experience brings together exceptional food\, stunning scenery and warm hospitality for an afternoon designed to be savoured.
URL:https://www.eatlocalmonth.com.au/event/100-percent-roastbeef-with-jake-hatch/?category=lunches-and-dinners
LOCATION:Roastbeef and The Frog\, The Overflow Estate 1895\, 1660 Beaudesert Boonah Rd\, Wyaralong\, QLD\, Australia
CATEGORIES:Lunches & Dinners
ATTACH;FMTTYPE=image/jpeg:https://www.eatlocalmonth.com.au/wp-content/uploads/2026/04/100-percent-roastbeef-with-jake-hatch-eat-local-month.jpg
ORGANIZER;CN="Roastbeef and The Frog":MAILTO:contact@roastbeefandthefrog.com.au
GEO:-27.9444799;152.8607018
X-APPLE-STRUCTURED-LOCATION;VALUE=URI;X-ADDRESS=Roastbeef and The Frog The Overflow Estate 1895 1660 Beaudesert Boonah Rd Wyaralong QLD Australia;X-APPLE-RADIUS=500;X-TITLE=The Overflow Estate 1895\, 1660 Beaudesert Boonah Rd:geo:152.8607018,-27.9444799
END:VEVENT
BEGIN:VEVENT
DTSTART;TZID=Australia/Brisbane:20260619T090000
DTEND;TZID=Australia/Brisbane:20260619T143000
DTSTAMP:20260423T075608
CREATED:20260414T172129Z
LAST-MODIFIED:20260415T143738Z
UID:10003682-1781859600-1781879400@www.eatlocalmonth.com.au
SUMMARY:Forage to Feast
DESCRIPTION:Guests are invited to a day of delightful discoveries\, engaging conversation\, and exceptional slow food crafted with care and respect by the Wild Canary team\, just metres from its source. \nImmerse yourself in the true essence of eating local while exploring the rich tapestry of Tommerup’s Dairy Farm. This exclusive\, hands-on farm experience offers a rare opportunity to meet the farmers and learn about the practices of this sixth-generation family farm\, where quality always comes first. \nGuests will don boots and hats to forage through Harry’s Paddock\, harvesting organic heirloom vegetables for lunch. Wander the paddocks to explore organic grains and pastures cultivated with the farm’s future in mind. Feed the pigs\, milk the Jersey cows\, separate cream\, and churn butter before sitting down to a leisurely afternoon of exquisite food and breathtaking views. \nContinue the conversation and connection with the farmers and the Wild Canary team over morning tea and lunch\, soaking up every moment of this intimate local food experience. For those passionate about knowing where their food comes from and supporting local farmers\, this is an experience not to be missed. \nAn exclusive event with limited numbers.
URL:https://www.eatlocalmonth.com.au/event/forage-to-feast/?category=lunches-and-dinners
LOCATION:Tommerup’s Dairy Farm\, 2142 Kerry Rd\, Kerry\, QLD
CATEGORIES:Lunches & Dinners,On Farm Adventures
ATTACH;FMTTYPE=image/jpeg:https://www.eatlocalmonth.com.au/wp-content/uploads/2026/04/forage-to-feast-eat-local-month.jpg
ORGANIZER;CN="Wild Canary":MAILTO:events@wildcanary.com.au
END:VEVENT
BEGIN:VEVENT
DTSTART;TZID=Australia/Brisbane:20260620T100000
DTEND;TZID=Australia/Brisbane:20260620T123000
DTSTAMP:20260423T075608
CREATED:20260414T172129Z
LAST-MODIFIED:20260415T143740Z
UID:10003699-1781949600-1781958600@www.eatlocalmonth.com.au
SUMMARY:Scenic Rim Bees and Cheese
DESCRIPTION:Discover the magic that happens when two artisan worlds come together. Hosted at the picturesque Towri Sheep Cheeses and guided by Jason from Bee All Natural\, this hands-on Bees and Cheese experience takes you from the buzz of the hive to the indulgence of a handcrafted cheeseboard. \nBegin by suiting up and stepping into a working hive\, learning how a colony thrives while safely observing the bees up close. With expert guidance\, extract fresh honey straight from the frame\, warm and bursting with unique floral notes from the Queensland hinterland. \nThen move to Towri’s beautiful farm setting for a tasting of their award-winning artisan sheep cheeses. Explore how the delicate sweetness of freshly harvested honey enhances each cheese\, creating pairings that celebrate the very best of local produce and craftsmanship. \nThis immersive experience blends sustainable beekeeping with artisan cheese-making\, offering a true hive-to-cheeseboard adventure. Guests leave with a jar of honey\, new skills\, and a story to share. \nCome for the bees. Stay for the cheese. Take home the magic.
URL:https://www.eatlocalmonth.com.au/event/scenic-rim-bees-and-cheese/2026-06-20/?category=family-friendly
LOCATION:Towri Sheep Cheeses\, 206 Saville Rd\, Allenview\, QLD\, Australia
CATEGORIES:Family Friendly,Workshops & Experiences
ATTACH;FMTTYPE=image/jpeg:https://www.eatlocalmonth.com.au/wp-content/uploads/2026/04/scenic-rim-bees-and-cheese-eat-local-month.jpg
ORGANIZER;CN="Bee All Natural":MAILTO:info@beeallnatural.com.au
GEO:-27.8891249;152.9181614
X-APPLE-STRUCTURED-LOCATION;VALUE=URI;X-ADDRESS=Towri Sheep Cheeses 206 Saville Rd Allenview QLD Australia;X-APPLE-RADIUS=500;X-TITLE=206 Saville Rd:geo:152.9181614,-27.8891249
END:VEVENT
BEGIN:VEVENT
DTSTART;TZID=Australia/Brisbane:20260620T100000
DTEND;TZID=Australia/Brisbane:20260620T150000
DTSTAMP:20260423T075608
CREATED:20260414T172129Z
LAST-MODIFIED:20260415T143741Z
UID:10003708-1781949600-1781967600@www.eatlocalmonth.com.au
SUMMARY:Vegetarian Fireside Feast on Wild Mountains
DESCRIPTION:Delight in a unique gourmet campfire cooking experience\, featuring the finest local produce from the Scenic Rim. Guests will savour a selection of freshly prepared vegetarian dishes\, all served in the heart of a tranquil eucalyptus forest. This gastronomic adventure culminates with a stunning long-table lunch atop the mountains\, offering breathtaking views of the Scenic Rim. \nEmbrace the ultimate slow food experience\, where exceptional flavours combine with the beauty of nature to create unforgettable memories. Conclude your journey with a nature walk through this stunning landscape\, immersing yourself in its serene atmosphere.
URL:https://www.eatlocalmonth.com.au/event/vegetarian-fireside-feast-on-wild-mountains/?category=lunches-and-dinners
LOCATION:Wild Mountains Environmental Education Centre\, 487 Philp Mountain Rd\, Running Creek\, QLD
CATEGORIES:Lunches & Dinners,Workshops & Experiences
ATTACH;FMTTYPE=image/jpeg:https://www.eatlocalmonth.com.au/wp-content/uploads/2026/04/vegetarian-fireside-feast-on-wild-mountains-eat-local-month.jpg
ORGANIZER;CN="Wild Mountains Environmental Education Centre":MAILTO:tatianareuillier@gmail.com
END:VEVENT
BEGIN:VEVENT
DTSTART;TZID=Australia/Brisbane:20260620T173000
DTEND;TZID=Australia/Brisbane:20260620T203000
DTSTAMP:20260423T075608
CREATED:20260414T172130Z
LAST-MODIFIED:20260415T143736Z
UID:10003716-1781976600-1781987400@www.eatlocalmonth.com.au
SUMMARY:Candlelit Dinner by The Piano
DESCRIPTION:Step into an intimate candlelit evening at The Overflow Estate 1895\, where soft piano music sets the mood. Savour a five-course dinner of regionally inspired dishes\, celebrating the flavours of the Scenic Rim. Relax\, dine\, and enjoy a memorable night with friends and loved ones in this stunning vineyard setting.
URL:https://www.eatlocalmonth.com.au/event/candlelit-dinner-by-the-piano/2026-06-20/?category=lunches-and-dinners
LOCATION:Roastbeef and The Frog\, The Overflow Estate 1895\, 1660 Beaudesert Boonah Rd\, Wyaralong\, QLD\, Australia
CATEGORIES:Lunches & Dinners
ATTACH;FMTTYPE=image/jpeg:https://www.eatlocalmonth.com.au/wp-content/uploads/2026/04/candlelit-dinner-by-the-piano-eat-local-month.jpg
ORGANIZER;CN="Roastbeef and The Frog":MAILTO:contact@roastbeefandthefrog.com.au
GEO:-27.9444799;152.8607018
X-APPLE-STRUCTURED-LOCATION;VALUE=URI;X-ADDRESS=Roastbeef and The Frog The Overflow Estate 1895 1660 Beaudesert Boonah Rd Wyaralong QLD Australia;X-APPLE-RADIUS=500;X-TITLE=The Overflow Estate 1895\, 1660 Beaudesert Boonah Rd:geo:152.8607018,-27.9444799
END:VEVENT
BEGIN:VEVENT
DTSTART;TZID=Australia/Brisbane:20260621T100000
DTEND;TZID=Australia/Brisbane:20260621T123000
DTSTAMP:20260423T075608
CREATED:20260414T172129Z
LAST-MODIFIED:20260415T143740Z
UID:10003769-1782036000-1782045000@www.eatlocalmonth.com.au
SUMMARY:Scenic Rim Bees and Cheese
DESCRIPTION:Discover the magic that happens when two artisan worlds come together. Hosted at the picturesque Towri Sheep Cheeses and guided by Jason from Bee All Natural\, this hands-on Bees and Cheese experience takes you from the buzz of the hive to the indulgence of a handcrafted cheeseboard. \nBegin by suiting up and stepping into a working hive\, learning how a colony thrives while safely observing the bees up close. With expert guidance\, extract fresh honey straight from the frame\, warm and bursting with unique floral notes from the Queensland hinterland. \nThen move to Towri’s beautiful farm setting for a tasting of their award-winning artisan sheep cheeses. Explore how the delicate sweetness of freshly harvested honey enhances each cheese\, creating pairings that celebrate the very best of local produce and craftsmanship. \nThis immersive experience blends sustainable beekeeping with artisan cheese-making\, offering a true hive-to-cheeseboard adventure. Guests leave with a jar of honey\, new skills\, and a story to share. \nCome for the bees. Stay for the cheese. Take home the magic.
URL:https://www.eatlocalmonth.com.au/event/scenic-rim-bees-and-cheese/2026-06-21/?category=family-friendly
LOCATION:Towri Sheep Cheeses\, 206 Saville Rd\, Allenview\, QLD\, Australia
CATEGORIES:Family Friendly,Workshops & Experiences
ATTACH;FMTTYPE=image/jpeg:https://www.eatlocalmonth.com.au/wp-content/uploads/2026/04/scenic-rim-bees-and-cheese-eat-local-month.jpg
ORGANIZER;CN="Bee All Natural":MAILTO:info@beeallnatural.com.au
GEO:-27.8891249;152.9181614
X-APPLE-STRUCTURED-LOCATION;VALUE=URI;X-ADDRESS=Towri Sheep Cheeses 206 Saville Rd Allenview QLD Australia;X-APPLE-RADIUS=500;X-TITLE=206 Saville Rd:geo:152.9181614,-27.8891249
END:VEVENT
BEGIN:VEVENT
DTSTART;TZID=Australia/Brisbane:20260624T110000
DTEND;TZID=Australia/Brisbane:20260624T140000
DTSTAMP:20260423T075608
CREATED:20260414T172129Z
LAST-MODIFIED:20260415T143740Z
UID:10003705-1782298800-1782309600@www.eatlocalmonth.com.au
SUMMARY:The Next Generation Homegrown Lunch
DESCRIPTION:Beaudesert State High School proudly presents its signature Eat Local Month 2026 event: a fully student-led “Farm to Fork” dining experience celebrating the Scenic Rim’s food\, culture\, and community. \nDesigned and delivered by students across Agriculture\, Hospitality\, Business\, and Arts programs\, this immersive event showcases real-world skills\, creativity\, and innovation. \nStudents raise livestock\, cultivate fruits and vegetables\, manage sustainability practices\, and prepare and serve every dish\, ensuring all ingredients are local\, ethical\, and fresh. With most produce travelling less than 15 kilometres from paddock to plate\, the event demonstrates ultra-low food miles and environmental responsibility in action. \nEach dish tells a story\, connecting the region’s fertile volcanic soils\, Indigenous heritage\, community history\, and student journeys. Arts and Music students bring the event to life with live performances and visual installations\, while Business students oversee marketing\, logistics\, and communications. \nStudent-led enterprises\, including honey and egg production\, extend the farm-to-fork journey and celebrate local enterprise and initiative. Guided by award-winning staff\, every element is authentic\, professional\, and entirely student-produced\, creating a vibrant showcase of talent\, learning\, and community spirit.
URL:https://www.eatlocalmonth.com.au/event/the-next-generation-homegrown-lunch/?category=lunches-and-dinners
LOCATION:Towri Sheep Cheeses\, 206 Saville Rd\, Allenview\, QLD\, Australia
CATEGORIES:Lunches & Dinners
ATTACH;FMTTYPE=image/jpeg:https://www.eatlocalmonth.com.au/wp-content/uploads/2026/04/the-next-generation-homegrown-lunch-eat-local-month.jpg
ORGANIZER;CN="Beaudesert State High School":MAILTO:raluc0@eq.edu.au
GEO:-27.8891249;152.9181614
X-APPLE-STRUCTURED-LOCATION;VALUE=URI;X-ADDRESS=Towri Sheep Cheeses 206 Saville Rd Allenview QLD Australia;X-APPLE-RADIUS=500;X-TITLE=206 Saville Rd:geo:152.9181614,-27.8891249
END:VEVENT
BEGIN:VEVENT
DTSTART;TZID=Australia/Brisbane:20260626T120000
DTEND;TZID=Australia/Brisbane:20260626T150000
DTSTAMP:20260423T075608
CREATED:20260414T172131Z
LAST-MODIFIED:20260415T143738Z
UID:10003743-1782475200-1782486000@www.eatlocalmonth.com.au
SUMMARY:Long Lunch by the Vineyard
DESCRIPTION:Taste your way through a delicious five-course long lunch in a stunning vineyard setting overlooking Lake Wyaralong\, curated by Roastbeef and The Frog at The Overflow Estate 1895. Guests are invited to experience a refined\, regionally inspired dining event celebrating local produce and thoughtful craftsmanship\, with each course carefully paired with wines from the estate and select local producers. It’s the perfect winter day experience to share with family and friends.
URL:https://www.eatlocalmonth.com.au/event/long-lunch-by-the-vineyard/2026-06-26/?category=lunches-and-dinners
LOCATION:Roastbeef and The Frog\, The Overflow Estate 1895\, 1660 Beaudesert Boonah Rd\, Wyaralong\, QLD\, Australia
CATEGORIES:Lunches & Dinners
ATTACH;FMTTYPE=image/jpeg:https://www.eatlocalmonth.com.au/wp-content/uploads/2026/04/long-lunch-by-the-vineyard-eat-local-month.jpg
ORGANIZER;CN="Roastbeef and The Frog":MAILTO:contact@roastbeefandthefrog.com.au
GEO:-27.9444799;152.8607018
X-APPLE-STRUCTURED-LOCATION;VALUE=URI;X-ADDRESS=Roastbeef and The Frog The Overflow Estate 1895 1660 Beaudesert Boonah Rd Wyaralong QLD Australia;X-APPLE-RADIUS=500;X-TITLE=The Overflow Estate 1895\, 1660 Beaudesert Boonah Rd:geo:152.8607018,-27.9444799
END:VEVENT
END:VCALENDAR