BEGIN:VCALENDAR
VERSION:2.0
PRODID:-//Eat Local Month 2026 - ECPv6.15.20//NONSGML v1.0//EN
CALSCALE:GREGORIAN
METHOD:PUBLISH
X-WR-CALNAME:Eat Local Month 2026
X-ORIGINAL-URL:https://www.eatlocalmonth.com.au
X-WR-CALDESC:Events for Eat Local Month 2026
REFRESH-INTERVAL;VALUE=DURATION:PT1H
X-Robots-Tag:noindex
X-PUBLISHED-TTL:PT1H
BEGIN:VTIMEZONE
TZID:Australia/Brisbane
BEGIN:STANDARD
TZOFFSETFROM:+1000
TZOFFSETTO:+1000
TZNAME:AEST
DTSTART:20250101T000000
END:STANDARD
END:VTIMEZONE
BEGIN:VEVENT
DTSTART;TZID=Australia/Brisbane:20260628T073000
DTEND;TZID=Australia/Brisbane:20260628T173000
DTSTAMP:20260420T162721
CREATED:20260414T172129Z
LAST-MODIFIED:20260419T030255Z
UID:10003677-1782631800-1782667800@www.eatlocalmonth.com.au
SUMMARY:Farm to Table Tour with Javier Codina
DESCRIPTION:Join Scenic Rim Food Ambassador Javier Codina for an exclusive full-day culinary adventure celebrating the producers who inspire his cooking. Begin with a delicious breakfast at Moda before boarding a private bus to explore the heart of the Scenic Rim. \nTour the region’s hero farms\, including Valley Pride Produce\, Heritage Poultry\, Summer Land Camels\, and Tommerup’s Dairy Farm. At each stop\, go behind-the-scenes\, hear the farmers’ stories\, and discover why Javier is proud to work with these local producers. Guests will enjoy interactive\, hands-on activities and witness Javier crafting dishes that showcase the exceptional produce sourced directly from each farm. \nThis exclusive experience is strictly limited and expected to sell out. Children’s tickets include a camel ride at Summer Land Camels.
URL:https://www.eatlocalmonth.com.au/event/farm-to-table-tour-with-javier-codina/?category=on-farm-adventures
LOCATION:Moda Steak . Tapas . Seasons\, Shop 22\, 61 Petrie Tce\, Brisbane\, QLD
CATEGORIES:On Farm Adventures,Winter Harvest Weekend,Workshops & Experiences
ATTACH;FMTTYPE=image/jpeg:https://www.eatlocalmonth.com.au/wp-content/uploads/2026/04/farm-to-table-tour-with-javier-codina-eat-local-month.jpg
ORGANIZER;CN="Moda Steak . Tapas . Seasons":MAILTO:functions@modarestaurant.com.au
END:VEVENT
END:VCALENDAR