BEGIN:VCALENDAR
VERSION:2.0
PRODID:-//Eat Local Month 2026 - ECPv6.15.20//NONSGML v1.0//EN
CALSCALE:GREGORIAN
METHOD:PUBLISH
X-WR-CALNAME:Eat Local Month 2026
X-ORIGINAL-URL:https://www.eatlocalmonth.com.au
X-WR-CALDESC:Events for Eat Local Month 2026
REFRESH-INTERVAL;VALUE=DURATION:PT1H
X-Robots-Tag:noindex
X-PUBLISHED-TTL:PT1H
BEGIN:VTIMEZONE
TZID:Australia/Brisbane
BEGIN:STANDARD
TZOFFSETFROM:+1000
TZOFFSETTO:+1000
TZNAME:AEST
DTSTART:20250101T000000
END:STANDARD
END:VTIMEZONE
BEGIN:VEVENT
DTSTART;TZID=Australia/Brisbane:20260619T113000
DTEND;TZID=Australia/Brisbane:20260619T143000
DTSTAMP:20260423T063058
CREATED:20260414T172130Z
LAST-MODIFIED:20260416T071016Z
UID:10003764-1781868600-1781879400@www.eatlocalmonth.com.au
SUMMARY:Progressive Paddock
DESCRIPTION:Step into a hands-on farm adventure as this progressive lunch meets a farm-to-table foraging twist. \nClimb aboard a 1979 LandCruiser Troop Carrier and tour the productive paddocks of Kalbar on a one-of-a-kind farm foraging adventure. Explore a series of fields\, each showcasing a unique ingredient\, and at each stop\, pick fresh produce\, savour a tasty snack\, and sip on a carefully paired drink. \nThe afternoon concludes in the picturesque gardens of Scenic Rim Farm Shop and Café\, where guests can relax over a delicious two-course meal featuring local farm-fresh favourites. Enjoy great company\, exquisite flavours\, and take home a basket of fresh produce for a full farm-to-table experience.
URL:https://www.eatlocalmonth.com.au/event/progressive-paddock/2026-06-19/?category=lunches-and-dinners
LOCATION:Scenic Rim Farm Shop & Café\, 541 Kents Lagoon Rd\, Kents Lagoon\, QLD
CATEGORIES:Lunches & Dinners,On Farm Adventures,Winter Harvest Weekend
ATTACH;FMTTYPE=image/jpeg:https://www.eatlocalmonth.com.au/wp-content/uploads/2026/04/progressive-paddock-eat-local-month.jpg
ORGANIZER;CN="Scenic Rim Farm Shop & Caf%C3%A9":MAILTO:enquiries@scenicrimfarmshop.com.au
END:VEVENT
BEGIN:VEVENT
DTSTART;TZID=Australia/Brisbane:20260620T083000
DTEND;TZID=Australia/Brisbane:20260620T150000
DTSTAMP:20260423T063058
CREATED:20260414T172129Z
LAST-MODIFIED:20260415T143738Z
UID:10003688-1781944200-1781967600@www.eatlocalmonth.com.au
SUMMARY:Kalfresh Carrot Day
DESCRIPTION:This is your once-a-year chance to step behind the scenes at one of Queensland’s largest and busiest carrot farms. \nGet muddy picking your own carrots\, follow the paddock-to-packet journey through the ‘wet and wild’ carrot washing factory\, explore the tractors up close\, and meet the talented farmers who make it all happen. Carrot Day is a fun\, hands-on experience perfect for the whole family and a unique way to share a love of vegetable farming with young and old alike. \nGrab your enclosed shoes\, roll up your sleeves\, and book your spot soon – Carrot Day sells out fast!
URL:https://www.eatlocalmonth.com.au/event/kalfresh-carrot-day/?category=family-friendly
LOCATION:Kalfresh Vegetables\, 6206 Cunningham Hwy\, Kalbar\, QLD\, Australia
CATEGORIES:Family Friendly,On Farm Adventures
ATTACH;FMTTYPE=image/jpeg:https://www.eatlocalmonth.com.au/wp-content/uploads/2026/04/kalfresh-carrot-day-eat-local-month.jpg
ORGANIZER;CN="Kalfresh Vegetables":MAILTO:info@kalfresh.com.au
GEO:-27.9427624;152.6236385
X-APPLE-STRUCTURED-LOCATION;VALUE=URI;X-ADDRESS=Kalfresh Vegetables 6206 Cunningham Hwy Kalbar QLD Australia;X-APPLE-RADIUS=500;X-TITLE=6206 Cunningham Hwy:geo:152.6236385,-27.9427624
END:VEVENT
BEGIN:VEVENT
DTSTART;TZID=Australia/Brisbane:20260620T094500
DTEND;TZID=Australia/Brisbane:20260620T130000
DTSTAMP:20260423T063058
CREATED:20260414T172129Z
LAST-MODIFIED:20260415T143738Z
UID:10003685-1781948700-1781960400@www.eatlocalmonth.com.au
SUMMARY:Hidden Harvest: A Garden-Led Culinary Journey
DESCRIPTION:Spend the day immersed in food\, flavour\, and discovery with Hidden Harvest\, a hands-on cooking experience for curious cooks and adventurous eaters. Begin in Caz’s garden\, harvesting fresh\, seasonal ingredients straight from the source. \nThe experience unfolds as a mystery-menu cooking class\, with each course revealed as it is prepared. Dishes are inspired by the freshest and most exciting ingredients of the day\, sourced from the garden\, nearby farms\, and trusted local artisans. \nIn a relaxed\, social setting\, participants chop\, taste\, and create a series of dishes celebrating the Scenic Rim. Along the way\, practical techniques\, flavour pairings\, and creative twists are explored\, encouraging both learning and experimentation. \nThe day concludes with a shared lunch on the deck\, featuring everything prepared during the session and paired with a local beverage. This immersive experience combines hands-on cooking\, plenty of laughter\, and a celebration of the region’s produce while connecting with new friends. \nCome with an open mind\, ready to get your hands dirty and your palate surprised – the secret is half the fun.
URL:https://www.eatlocalmonth.com.au/event/hidden-harvest-a-garden-led-culinary-journey/?category=workshops-and-experiences
LOCATION:Scenic Rim Cooking Classes\, 229 Kooroomba Drive\, Mount Alford\, QLD\, Australia
CATEGORIES:Workshops & Experiences
ATTACH;FMTTYPE=image/jpeg:https://www.eatlocalmonth.com.au/wp-content/uploads/2026/04/hidden-harvest-a-garden-led-culinary-journey-eat-local-month.jpg
ORGANIZER;CN="Scenic Rim Cooking Classes":MAILTO:sales@scenicrimcookingclasses.com.au
END:VEVENT
BEGIN:VEVENT
DTSTART;TZID=Australia/Brisbane:20260620T100000
DTEND;TZID=Australia/Brisbane:20260620T110000
DTSTAMP:20260423T063058
CREATED:20260414T172130Z
LAST-MODIFIED:20260415T143740Z
UID:10003749-1781949600-1781953200@www.eatlocalmonth.com.au
SUMMARY:Tour\, Taste and Camel Encounter
DESCRIPTION:Go behind-the-scenes at Australia’s largest camel farm and dairy for an unforgettable Tour\, Taste & Camel Encounter at Summer Land Camels. \nStep onto the farm and meet the gentle giants of the paddocks. Guests get up close with friendly camels of all ages\, including dairy camels\, weaners\, pregnant camels\, and adorable babies. Learn about their intelligence\, unique anatomy\, adaptability\, and the special bond they share with the skilled Cameleers who care for them. This is a highlight for visitors of all ages and a truly interactive\, family-friendly experience. \nTake a guided tour through the picturesque farm and into the Camel Dairy. Discover the fascinating history of camels in Australia and their important role in the country’s development. Explore the milking facilities and learn about the incredible health benefits of camel milk\, a nutrient-rich alternative perfect for those with dairy sensitivities. \nThe experience concludes with a tasting of Summer Land’s award-winning camel milk products\, including the famous Camel Milk Marinated Cheese and creamy gelato\, all made on-site. Guests can finish with a visit to the farm shop to explore more products and take home unique souvenirs. \nThis immersive experience offers a hands-on insight into the farm’s operations\, the camel milk industry\, and the care and dedication behind creating exceptional\, sustainable produce\, showing paddock-to-plate in action.
URL:https://www.eatlocalmonth.com.au/event/tour-taste-and-camel-encounter/2026-06-20/?category=family-friendly
LOCATION:Summer Land Camels\, 8 Charles Chauvel Dr\, Harrisville\, QLD\, Australia
CATEGORIES:Family Friendly,On Farm Adventures
ATTACH;FMTTYPE=image/jpeg:https://www.eatlocalmonth.com.au/wp-content/uploads/2026/04/tour-taste-and-camel-encounter-eat-local-month.jpg
ORGANIZER;CN="Summer Land Camels":MAILTO:info@summerlandcamels.com.au
GEO:-27.787956;152.6470228
X-APPLE-STRUCTURED-LOCATION;VALUE=URI;X-ADDRESS=Summer Land Camels 8 Charles Chauvel Dr Harrisville QLD Australia;X-APPLE-RADIUS=500;X-TITLE=8 Charles Chauvel Dr:geo:152.6470228,-27.787956
END:VEVENT
BEGIN:VEVENT
DTSTART;TZID=Australia/Brisbane:20260620T100000
DTEND;TZID=Australia/Brisbane:20260620T110000
DTSTAMP:20260423T063058
CREATED:20260414T172131Z
LAST-MODIFIED:20260415T143736Z
UID:10003733-1781949600-1781953200@www.eatlocalmonth.com.au
SUMMARY:Edible Flower Picking and Cupcake Decorating
DESCRIPTION:Enjoy a guided tour of the flower beds at Elderflower Farm\, learning all about edible flowers while handpicking your favourites. Then\, unleash your creativity by icing and decorating delicious cupcakes with your blooms\, ready to take home or enjoy on the day. \nExtra edible flowers can be taken home in a provided punnet.
URL:https://www.eatlocalmonth.com.au/event/edible-flower-picking-and-cupcake-decorating/2026-06-20/?category=workshops-and-experiences
LOCATION:Elderflower Farm\, 541 Kents Lagoon Rd\, Kents Lagoon\, QLD\, Australia
CATEGORIES:Workshops & Experiences
ATTACH;FMTTYPE=image/jpeg:https://www.eatlocalmonth.com.au/wp-content/uploads/2026/04/edible-flower-picking-and-cupcake-decorating-eat-local-month.jpg
ORGANIZER;CN="Elderflower Farm":MAILTO:rachel@elderflowerfarm.com.au
GEO:-27.8886872;152.6217038
X-APPLE-STRUCTURED-LOCATION;VALUE=URI;X-ADDRESS=Elderflower Farm 541 Kents Lagoon Rd Kents Lagoon QLD Australia;X-APPLE-RADIUS=500;X-TITLE=541 Kents Lagoon Rd:geo:152.6217038,-27.8886872
END:VEVENT
BEGIN:VEVENT
DTSTART;TZID=Australia/Brisbane:20260620T140000
DTEND;TZID=Australia/Brisbane:20260620T163000
DTSTAMP:20260423T063058
CREATED:20260414T172129Z
LAST-MODIFIED:20260415T143739Z
UID:10003770-1781964000-1781973000@www.eatlocalmonth.com.au
SUMMARY:Native Rainforest Orchard Trek and Taste
DESCRIPTION:Set out on a journey into the heart of the Scenic Rim\, beginning with a scenic drive through rolling hills\, lush valleys\, and winding country roads that showcase the region’s dramatic landscapes. Arriving at Wilde Foods native rainforest fruit orchard\, embark on a 1.5 km guided walk and discover how regenerative and sustainable land practices are nurturing the orchard’s unique endemic fruits. Along the way\, hear directly from owners Fred and Lisa about their approach to growing these highly nutritious fruits and the vision behind their farm. \nSample gluten-free\, dairy-free\, and vegan-friendly native condiments made from the orchard’s produce\, and enjoy a refreshing mocktail while taking in the sights\, sounds\, and scents of the rainforest. Each step of the walk offers a deeper connection to the region’s biodiversity and the care that goes into cultivating these rare flavours. \nThe experience concludes beside an open-air log fire\, savouring a surprise dessert while watching the sun set over the breathtaking Main Range National Park. This immersive journey celebrates the Scenic Rim’s lush landscapes\, the thoughtful stewardship of Wilde Foods\, and the distinctive flavours of native Australian ingredients\, offering a relaxed\, sensory adventure from orchard to sunset. \nNative condiments include pickled warrigal greens\, macadamia nut pesto\, pepperberry and wattleseed rub\, Davidson plum spicy sauce\, and more. Renowned for their high antioxidant content\, these ethically and sustainably packaged products offer pure\, nutritious flavours that can be enjoyed at home and are available for purchase on the day.
URL:https://www.eatlocalmonth.com.au/event/native-rainforest-orchard-trek-and-taste/2026-06-20/?category=workshops-and-experiences
LOCATION:Wilde Foods\, 1827 Carneys Creek Rd\, Carneys Creek\, QLD
CATEGORIES:Workshops & Experiences
ATTACH;FMTTYPE=image/jpeg:https://www.eatlocalmonth.com.au/wp-content/uploads/2026/04/native-rainforest-orchard-trek-and-taste-eat-local-month.jpg
ORGANIZER;CN="Wilde Foods":MAILTO:wildefoods1827@gmail.com
END:VEVENT
BEGIN:VEVENT
DTSTART;TZID=Australia/Brisbane:20260621T100000
DTEND;TZID=Australia/Brisbane:20260621T110000
DTSTAMP:20260423T063058
CREATED:20260414T172130Z
LAST-MODIFIED:20260415T143740Z
UID:10003750-1782036000-1782039600@www.eatlocalmonth.com.au
SUMMARY:Tour\, Taste and Camel Encounter
DESCRIPTION:Go behind-the-scenes at Australia’s largest camel farm and dairy for an unforgettable Tour\, Taste & Camel Encounter at Summer Land Camels. \nStep onto the farm and meet the gentle giants of the paddocks. Guests get up close with friendly camels of all ages\, including dairy camels\, weaners\, pregnant camels\, and adorable babies. Learn about their intelligence\, unique anatomy\, adaptability\, and the special bond they share with the skilled Cameleers who care for them. This is a highlight for visitors of all ages and a truly interactive\, family-friendly experience. \nTake a guided tour through the picturesque farm and into the Camel Dairy. Discover the fascinating history of camels in Australia and their important role in the country’s development. Explore the milking facilities and learn about the incredible health benefits of camel milk\, a nutrient-rich alternative perfect for those with dairy sensitivities. \nThe experience concludes with a tasting of Summer Land’s award-winning camel milk products\, including the famous Camel Milk Marinated Cheese and creamy gelato\, all made on-site. Guests can finish with a visit to the farm shop to explore more products and take home unique souvenirs. \nThis immersive experience offers a hands-on insight into the farm’s operations\, the camel milk industry\, and the care and dedication behind creating exceptional\, sustainable produce\, showing paddock-to-plate in action.
URL:https://www.eatlocalmonth.com.au/event/tour-taste-and-camel-encounter/2026-06-21/?category=family-friendly
LOCATION:Summer Land Camels\, 8 Charles Chauvel Dr\, Harrisville\, QLD\, Australia
CATEGORIES:Family Friendly,On Farm Adventures
ATTACH;FMTTYPE=image/jpeg:https://www.eatlocalmonth.com.au/wp-content/uploads/2026/04/tour-taste-and-camel-encounter-eat-local-month.jpg
ORGANIZER;CN="Summer Land Camels":MAILTO:info@summerlandcamels.com.au
GEO:-27.787956;152.6470228
X-APPLE-STRUCTURED-LOCATION;VALUE=URI;X-ADDRESS=Summer Land Camels 8 Charles Chauvel Dr Harrisville QLD Australia;X-APPLE-RADIUS=500;X-TITLE=8 Charles Chauvel Dr:geo:152.6470228,-27.787956
END:VEVENT
BEGIN:VEVENT
DTSTART;TZID=Australia/Brisbane:20260621T100000
DTEND;TZID=Australia/Brisbane:20260621T110000
DTSTAMP:20260423T063058
CREATED:20260414T172131Z
LAST-MODIFIED:20260415T143736Z
UID:10003734-1782036000-1782039600@www.eatlocalmonth.com.au
SUMMARY:Edible Flower Picking and Cupcake Decorating
DESCRIPTION:Enjoy a guided tour of the flower beds at Elderflower Farm\, learning all about edible flowers while handpicking your favourites. Then\, unleash your creativity by icing and decorating delicious cupcakes with your blooms\, ready to take home or enjoy on the day. \nExtra edible flowers can be taken home in a provided punnet.
URL:https://www.eatlocalmonth.com.au/event/edible-flower-picking-and-cupcake-decorating/2026-06-21/?category=workshops-and-experiences
LOCATION:Elderflower Farm\, 541 Kents Lagoon Rd\, Kents Lagoon\, QLD\, Australia
CATEGORIES:Workshops & Experiences
ATTACH;FMTTYPE=image/jpeg:https://www.eatlocalmonth.com.au/wp-content/uploads/2026/04/edible-flower-picking-and-cupcake-decorating-eat-local-month.jpg
ORGANIZER;CN="Elderflower Farm":MAILTO:rachel@elderflowerfarm.com.au
GEO:-27.8886872;152.6217038
X-APPLE-STRUCTURED-LOCATION;VALUE=URI;X-ADDRESS=Elderflower Farm 541 Kents Lagoon Rd Kents Lagoon QLD Australia;X-APPLE-RADIUS=500;X-TITLE=541 Kents Lagoon Rd:geo:152.6217038,-27.8886872
END:VEVENT
BEGIN:VEVENT
DTSTART;TZID=Australia/Brisbane:20260621T133000
DTEND;TZID=Australia/Brisbane:20260621T163000
DTSTAMP:20260423T063058
CREATED:20260414T172129Z
LAST-MODIFIED:20260415T143739Z
UID:10003759-1782048600-1782059400@www.eatlocalmonth.com.au
SUMMARY:Native Rainforest Orchard Trek and Taste
DESCRIPTION:Set out on a journey into the heart of the Scenic Rim\, beginning with a scenic drive through rolling hills\, lush valleys\, and winding country roads that showcase the region’s dramatic landscapes. Arriving at Wilde Foods native rainforest fruit orchard\, embark on a 1.5 km guided walk and discover how regenerative and sustainable land practices are nurturing the orchard’s unique endemic fruits. Along the way\, hear directly from owners Fred and Lisa about their approach to growing these highly nutritious fruits and the vision behind their farm. \nSample gluten-free\, dairy-free\, and vegan-friendly native condiments made from the orchard’s produce\, and enjoy a refreshing mocktail while taking in the sights\, sounds\, and scents of the rainforest. Each step of the walk offers a deeper connection to the region’s biodiversity and the care that goes into cultivating these rare flavours. \nThe experience concludes beside an open-air log fire\, savouring a surprise dessert while watching the sun set over the breathtaking Main Range National Park. This immersive journey celebrates the Scenic Rim’s lush landscapes\, the thoughtful stewardship of Wilde Foods\, and the distinctive flavours of native Australian ingredients\, offering a relaxed\, sensory adventure from orchard to sunset. \nNative condiments include pickled warrigal greens\, macadamia nut pesto\, pepperberry and wattleseed rub\, Davidson plum spicy sauce\, and more. Renowned for their high antioxidant content\, these ethically and sustainably packaged products offer pure\, nutritious flavours that can be enjoyed at home and are available for purchase on the day.
URL:https://www.eatlocalmonth.com.au/event/native-rainforest-orchard-trek-and-taste/2026-06-21/?category=workshops-and-experiences
LOCATION:Wilde Foods\, 1827 Carneys Creek Rd\, Carneys Creek\, QLD
CATEGORIES:Workshops & Experiences
ATTACH;FMTTYPE=image/jpeg:https://www.eatlocalmonth.com.au/wp-content/uploads/2026/04/native-rainforest-orchard-trek-and-taste-eat-local-month.jpg
ORGANIZER;CN="Wilde Foods":MAILTO:wildefoods1827@gmail.com
END:VEVENT
END:VCALENDAR