BEGIN:VCALENDAR
VERSION:2.0
PRODID:-//Eat Local Month 2026 - ECPv6.15.20//NONSGML v1.0//EN
CALSCALE:GREGORIAN
METHOD:PUBLISH
X-ORIGINAL-URL:https://www.eatlocalmonth.com.au
X-WR-CALDESC:Events for Eat Local Month 2026
REFRESH-INTERVAL;VALUE=DURATION:PT1H
X-Robots-Tag:noindex
X-PUBLISHED-TTL:PT1H
BEGIN:VTIMEZONE
TZID:Australia/Brisbane
BEGIN:STANDARD
TZOFFSETFROM:+1000
TZOFFSETTO:+1000
TZNAME:AEST
DTSTART:20250101T000000
END:STANDARD
END:VTIMEZONE
BEGIN:VEVENT
DTSTART;TZID=Australia/Brisbane:20260620T103000
DTEND;TZID=Australia/Brisbane:20260620T123000
DTSTAMP:20260423T080252
CREATED:20260414T172131Z
LAST-MODIFIED:20260415T143736Z
UID:10003725-1781951400-1781958600@www.eatlocalmonth.com.au
SUMMARY:Citrus Liqueur Crafting Workshop
DESCRIPTION:Discover the art of citrus liqueur making at the award-winning Tamborine Mountain Distillery with Head Distiller Gordon Chalmers. In this hands-on workshop\, participants handpick fresh fruits from the orchard and craft their own personalised liqueur from scratch. \nGuided by expert distillers\, each step of the process is explored in detail. Participants peel\, juice\, blend\, and bottle their unique 375ml creation to take home as a keepsake. Along the way\, there is the opportunity to taste award-winning citrus liqueurs and gain behind-the-scenes insight into the distillation process\, learning how flavours\, botanicals\, and techniques come together to create a balanced\, vibrant spirit. \nIdeal for food and drink enthusiasts\, creative spirits\, and anyone seeking a truly memorable experience\, this workshop immerses participants in the flavours of the orchard\, the craft of distilling\, and the joy of creating something uniquely their own. It is an interactive\, educational\, and delicious journey into the world of citrus liqueurs.
URL:https://www.eatlocalmonth.com.au/event/citrus-liqueur-crafting-workshop/2026-06-20/?category=workshops-and-experiences
LOCATION:Tamborine Mountain Distillery\, 10 Macdonnell Rd\, Tamborine Mountain\, QLD\, Australia
CATEGORIES:Workshops & Experiences
ATTACH;FMTTYPE=image/jpeg:https://www.eatlocalmonth.com.au/wp-content/uploads/2026/04/citrus-liqueur-crafting-workshop-eat-local-month.jpg
ORGANIZER;CN="Tamborine Mountain Distillery":MAILTO:info@tamborinemountaindistillery.com
GEO:-27.9206131;153.1986812
X-APPLE-STRUCTURED-LOCATION;VALUE=URI;X-ADDRESS=Tamborine Mountain Distillery 10 Macdonnell Rd Tamborine Mountain QLD Australia;X-APPLE-RADIUS=500;X-TITLE=10 Macdonnell Rd:geo:153.1986812,-27.9206131
END:VEVENT
BEGIN:VEVENT
DTSTART;TZID=Australia/Brisbane:20260621T100000
DTEND;TZID=Australia/Brisbane:20260621T123000
DTSTAMP:20260423T080252
CREATED:20260414T172131Z
LAST-MODIFIED:20260415T143736Z
UID:10003727-1782036000-1782045000@www.eatlocalmonth.com.au
SUMMARY:Craft Spirit Distilling Workshop
DESCRIPTION:Experience the true craftsmanship of spirit-making as you go behind the scenes to create a unique spirit. Guided by Head Distiller Gordon Chalmers\, explore flavours\, botanicals\, and the distillation process before crafting a personalised 500ml bottle of rum\, gin\, brandy\, vodka\, or schnapps to take home. \nThe workshop includes a guided distillery tour\, tasting of the distillery’s finest spirits\, and a shared grazing board to enjoy throughout the session. Participants gain hands-on insight into flavour development\, operation of the still\, and the art and science behind craft spirit production. \nThis immersive experience is perfect for spirit enthusiasts\, curious creatives\, or anyone seeking a relaxed\, hands-on journey into the world of craft distilling.
URL:https://www.eatlocalmonth.com.au/event/craft-spirit-distilling-workshop/2026-06-21/?category=workshops-and-experiences
LOCATION:Tamborine Mountain Distillery\, 10 Macdonnell Rd\, Tamborine Mountain\, QLD\, Australia
CATEGORIES:Workshops & Experiences
ATTACH;FMTTYPE=image/jpeg:https://www.eatlocalmonth.com.au/wp-content/uploads/2026/04/craft-spirit-distilling-workshop-eat-local-month.jpg
ORGANIZER;CN="Tamborine Mountain Distillery":MAILTO:info@tamborinemountaindistillery.com
GEO:-27.9206131;153.1986812
X-APPLE-STRUCTURED-LOCATION;VALUE=URI;X-ADDRESS=Tamborine Mountain Distillery 10 Macdonnell Rd Tamborine Mountain QLD Australia;X-APPLE-RADIUS=500;X-TITLE=10 Macdonnell Rd:geo:153.1986812,-27.9206131
END:VEVENT
BEGIN:VEVENT
DTSTART;TZID=Australia/Brisbane:20260621T153000
DTEND;TZID=Australia/Brisbane:20260621T180000
DTSTAMP:20260423T080252
CREATED:20260414T172129Z
LAST-MODIFIED:20260415T143741Z
UID:10003712-1782055800-1782064800@www.eatlocalmonth.com.au
SUMMARY:Winter Solstice Campfire Cookout
DESCRIPTION:Families are invited to enjoy a magical country evening at Frost Farm. Gather around the campfire with Birdwings Forest School for a cosy\, hands-on experience. Children and adults work together to cook a shared meal using seasonal produce\, including warm damper and a sweet fire-cooked dessert\, embracing the simple joy of cooking outdoors. \nWhile the food cooks\, explore the paddocks and the creek-side nature play adventure playground\, or join in nature crafts such as whittling\, weaving\, and other creative projects. \nA highlight of the evening is crafting lanterns\, which are then carried on a gentle twilight lantern walk\, filling the farm with glowing lights and festive spirit. As darkness falls\, everyone returns to the fire to hear a story\, bringing the solstice night to life with imagination\, connection\, and the magic of the Scenic Rim bushland.
URL:https://www.eatlocalmonth.com.au/event/winter-solstice-campfire-cookout/?category=family-friendly
LOCATION:Frost Farm Lower Paddock\, 44 Billiau Rd\, Guanaba\, QLD
CATEGORIES:Family Friendly
ATTACH;FMTTYPE=image/jpeg:https://www.eatlocalmonth.com.au/wp-content/uploads/2026/04/winter-solstice-campfire-cookout-eat-local-month.jpg
ORGANIZER;CN="Birdwings Forest School":MAILTO:hello@birdwingsforestschool.com
END:VEVENT
END:VCALENDAR