BEGIN:VCALENDAR
VERSION:2.0
PRODID:-//Eat Local Month 2026 - ECPv6.15.20//NONSGML v1.0//EN
CALSCALE:GREGORIAN
METHOD:PUBLISH
X-WR-CALNAME:Eat Local Month 2026
X-ORIGINAL-URL:https://www.eatlocalmonth.com.au
X-WR-CALDESC:Events for Eat Local Month 2026
REFRESH-INTERVAL;VALUE=DURATION:PT1H
X-Robots-Tag:noindex
X-PUBLISHED-TTL:PT1H
BEGIN:VTIMEZONE
TZID:Australia/Brisbane
BEGIN:STANDARD
TZOFFSETFROM:+1000
TZOFFSETTO:+1000
TZNAME:AEST
DTSTART:20250101T000000
END:STANDARD
END:VTIMEZONE
BEGIN:VEVENT
DTSTART;TZID=Australia/Brisbane:20260627T150000
DTEND;TZID=Australia/Brisbane:20260627T200000
DTSTAMP:20260422T214340
CREATED:20260414T172129Z
LAST-MODIFIED:20260416T062115Z
UID:10003684-1782572400-1782590400@www.eatlocalmonth.com.au
SUMMARY:Harvest Hoedown
DESCRIPTION:Kick on after the Winter Harvest Festival with a good ol’ fashioned country celebration at the Harvest Hoedown! This lively event brings together great music\, delicious food\, and plenty of dancing for an evening to remember. \nGet your boots tapping with live entertainment\, including Laura Frank (@laurafrankmusic)\, Jacynta’lee (jacyntalee_) and Riley Ziskey (rileyziskey) and join in the fun of line dancing. Whether you are a seasoned pro or stepping onto the floor for the first time\, everyone is welcome. Stay warm with street food-style winter comfort meals and sip on locally crafted beverages. \nWith a relaxed\, family-friendly atmosphere\, the Harvest Hoedown is the perfect way to wrap up your day at the Winter Harvest Festival. Bring a picnic blanket or camp chair\, settle in with friends and family\, and enjoy the rhythm of the day while soaking up the Scenic Rim’s famous country hospitality. \nThe Harvest Hoedown is more than just an event. It is a celebration of place\, people\, and true country spirit. Come for the music\, stay for the dancing\, and leave with full hearts\, happy feet\, and memories to last a lifetime.
URL:https://www.eatlocalmonth.com.au/event/harvest-hoedown/?category=family-friendly
LOCATION:The Cow Bar\, 54-56 Edward St\, Kalbar\, QLD
CATEGORIES:Family Friendly,Winter Harvest Weekend,Workshops & Experiences
ATTACH;FMTTYPE=image/jpeg:https://www.eatlocalmonth.com.au/wp-content/uploads/2026/04/harvest-hoedown-eat-local-month.jpg
ORGANIZER;CN="Orange Schmorange":MAILTO:hello@orangeschmorange.au
END:VEVENT
END:VCALENDAR