BEGIN:VCALENDAR
VERSION:2.0
PRODID:-//Eat Local Month 2026 - ECPv6.15.20//NONSGML v1.0//EN
CALSCALE:GREGORIAN
METHOD:PUBLISH
X-ORIGINAL-URL:https://www.eatlocalmonth.com.au
X-WR-CALDESC:Events for Eat Local Month 2026
REFRESH-INTERVAL;VALUE=DURATION:PT1H
X-Robots-Tag:noindex
X-PUBLISHED-TTL:PT1H
BEGIN:VTIMEZONE
TZID:Australia/Brisbane
BEGIN:STANDARD
TZOFFSETFROM:+1000
TZOFFSETTO:+1000
TZNAME:AEST
DTSTART:20250101T000000
END:STANDARD
END:VTIMEZONE
BEGIN:VEVENT
DTSTART;TZID=Australia/Brisbane:20260614T113000
DTEND;TZID=Australia/Brisbane:20260614T150000
DTSTAMP:20260420T182520
CREATED:20260414T172129Z
LAST-MODIFIED:20260415T143736Z
UID:10003671-1781436600-1781449200@www.eatlocalmonth.com.au
SUMMARY:Eat Local Long Lunch
DESCRIPTION:Perched in the elegant mountain top haven of Spicers Peak Lodge\, guests are invited to experience contemporary Australian dining at its finest. \nSweeping views across the Scenic Rim create a spectacular backdrop for this long table lunch on the terrace. Guests will savour a five-course tasting menu\, expertly crafted by The Peak Restaurant’s culinary team\, showcasing the region’s finest local produce and wines.
URL:https://www.eatlocalmonth.com.au/event/eat-local-long-lunch/?category=lunches-and-dinners
LOCATION:The Peak Restaurant – Spicers Peak Lodge\, 1 Wilkinson Rd\, Maryvale\, QLD\, Australia
CATEGORIES:Lunches & Dinners
ATTACH;FMTTYPE=image/jpeg:https://www.eatlocalmonth.com.au/wp-content/uploads/2026/04/eat-local-long-lunch-eat-local-month.jpg
ORGANIZER;CN="Spicers Peak Lodge":MAILTO:reception.peaklodge@spicersretreats.com
GEO:-28.0871155;152.3314531
X-APPLE-STRUCTURED-LOCATION;VALUE=URI;X-ADDRESS=The Peak Restaurant – Spicers Peak Lodge 1 Wilkinson Rd Maryvale QLD Australia;X-APPLE-RADIUS=500;X-TITLE=1 Wilkinson Rd:geo:152.3314531,-28.0871155
END:VEVENT
END:VCALENDAR