BEGIN:VCALENDAR
VERSION:2.0
PRODID:-//Eat Local Month 2026 - ECPv6.15.20//NONSGML v1.0//EN
CALSCALE:GREGORIAN
METHOD:PUBLISH
X-ORIGINAL-URL:https://www.eatlocalmonth.com.au
X-WR-CALDESC:Events for Eat Local Month 2026
REFRESH-INTERVAL;VALUE=DURATION:PT1H
X-Robots-Tag:noindex
X-PUBLISHED-TTL:PT1H
BEGIN:VTIMEZONE
TZID:Australia/Brisbane
BEGIN:STANDARD
TZOFFSETFROM:+1000
TZOFFSETTO:+1000
TZNAME:AEST
DTSTART:20250101T000000
END:STANDARD
END:VTIMEZONE
BEGIN:VEVENT
DTSTART;TZID=Australia/Brisbane:20260607T090000
DTEND;TZID=Australia/Brisbane:20260607T130000
DTSTAMP:20260420T215800
CREATED:20260419T031422Z
LAST-MODIFIED:20260419T031422Z
UID:10003709-1780822800-1780837200@www.eatlocalmonth.com.au
SUMMARY:Veggie Picking with the Farmer
DESCRIPTION:Experience a hands-on day at Valley Pride Produce\, a fifth-generation family farm. Join the Scholl family\, who have been growing vegetables on this land for over a century\, with the sixth generation now proudly carrying on the legacy. Wander the paddocks alongside the family\, watch fresh produce being picked and harvested\, then roll up your sleeves to dig seasonal vegetables straight from the soil. \nThis family-friendly on-farm experience offers a genuine insight into life on the land and the journey from paddock-to-plate. Children will love getting their hands dirty and discovering where their food comes from\, while adults can pick up practical tips for growing\, cooking\, and living more locally. \nWith a deep respect for the land\, everything grown on the farm is thoughtfully used\, with produce transformed into conserves\, infusions\, and baked goods to minimise waste. \nRound off the day by taking home your handpicked vegetables for a fresh\, homegrown feast.
URL:https://www.eatlocalmonth.com.au/event/veggie-picking-with-the-farmer-2/?category=family-friendly
LOCATION:Valley Pride Produce\, 83 Scholl Rd\, Charlwood\, QLD\, Australia
CATEGORIES:Family Friendly,On Farm Adventures,Winter Harvest Weekend
ATTACH;FMTTYPE=image/jpeg:https://www.eatlocalmonth.com.au/wp-content/uploads/2026/04/veggie-picking-with-the-farmer-eat-local-month.jpg
ORGANIZER;CN="Valley Pride Produce":MAILTO:antsfruit@hotmail.com
GEO:-27.9867708;152.5804525
X-APPLE-STRUCTURED-LOCATION;VALUE=URI;X-ADDRESS=Valley Pride Produce 83 Scholl Rd Charlwood QLD Australia;X-APPLE-RADIUS=500;X-TITLE=83 Scholl Rd:geo:152.5804525,-27.9867708
END:VEVENT
BEGIN:VEVENT
DTSTART;TZID=Australia/Brisbane:20260628T090000
DTEND;TZID=Australia/Brisbane:20260628T130000
DTSTAMP:20260420T215800
CREATED:20260414T172130Z
LAST-MODIFIED:20260416T062139Z
UID:10003755-1782637200-1782651600@www.eatlocalmonth.com.au
SUMMARY:Veggie Picking with the Farmer
DESCRIPTION:Experience a hands-on day at Valley Pride Produce\, a fifth-generation family farm. Join the Scholl family\, who have been growing vegetables on this land for over a century\, with the sixth generation now proudly carrying on the legacy. Wander the paddocks alongside the family\, watch fresh produce being picked and harvested\, then roll up your sleeves to dig seasonal vegetables straight from the soil. \nThis family-friendly on-farm experience offers a genuine insight into life on the land and the journey from paddock-to-plate. Children will love getting their hands dirty and discovering where their food comes from\, while adults can pick up practical tips for growing\, cooking\, and living more locally. \nWith a deep respect for the land\, everything grown on the farm is thoughtfully used\, with produce transformed into conserves\, infusions\, and baked goods to minimise waste. \nRound off the day by taking home your handpicked vegetables for a fresh\, homegrown feast.
URL:https://www.eatlocalmonth.com.au/event/veggie-picking-with-the-farmer/2026-06-28/?category=family-friendly
LOCATION:Valley Pride Produce\, 83 Scholl Rd\, Charlwood\, QLD\, Australia
CATEGORIES:Family Friendly,On Farm Adventures,Winter Harvest Weekend
ATTACH;FMTTYPE=image/jpeg:https://www.eatlocalmonth.com.au/wp-content/uploads/2026/04/veggie-picking-with-the-farmer-eat-local-month.jpg
ORGANIZER;CN="Valley Pride Produce":MAILTO:antsfruit@hotmail.com
GEO:-27.9867708;152.5804525
X-APPLE-STRUCTURED-LOCATION;VALUE=URI;X-ADDRESS=Valley Pride Produce 83 Scholl Rd Charlwood QLD Australia;X-APPLE-RADIUS=500;X-TITLE=83 Scholl Rd:geo:152.5804525,-27.9867708
END:VEVENT
BEGIN:VEVENT
DTSTART;TZID=Australia/Brisbane:20260629T090000
DTEND;TZID=Australia/Brisbane:20260629T130000
DTSTAMP:20260420T215801
CREATED:20260414T172130Z
LAST-MODIFIED:20260416T062139Z
UID:10003756-1782723600-1782738000@www.eatlocalmonth.com.au
SUMMARY:Veggie Picking with the Farmer
DESCRIPTION:Experience a hands-on day at Valley Pride Produce\, a fifth-generation family farm. Join the Scholl family\, who have been growing vegetables on this land for over a century\, with the sixth generation now proudly carrying on the legacy. Wander the paddocks alongside the family\, watch fresh produce being picked and harvested\, then roll up your sleeves to dig seasonal vegetables straight from the soil. \nThis family-friendly on-farm experience offers a genuine insight into life on the land and the journey from paddock-to-plate. Children will love getting their hands dirty and discovering where their food comes from\, while adults can pick up practical tips for growing\, cooking\, and living more locally. \nWith a deep respect for the land\, everything grown on the farm is thoughtfully used\, with produce transformed into conserves\, infusions\, and baked goods to minimise waste. \nRound off the day by taking home your handpicked vegetables for a fresh\, homegrown feast.
URL:https://www.eatlocalmonth.com.au/event/veggie-picking-with-the-farmer/2026-06-29/?category=family-friendly
LOCATION:Valley Pride Produce\, 83 Scholl Rd\, Charlwood\, QLD\, Australia
CATEGORIES:Family Friendly,On Farm Adventures,Winter Harvest Weekend
ATTACH;FMTTYPE=image/jpeg:https://www.eatlocalmonth.com.au/wp-content/uploads/2026/04/veggie-picking-with-the-farmer-eat-local-month.jpg
ORGANIZER;CN="Valley Pride Produce":MAILTO:antsfruit@hotmail.com
GEO:-27.9867708;152.5804525
X-APPLE-STRUCTURED-LOCATION;VALUE=URI;X-ADDRESS=Valley Pride Produce 83 Scholl Rd Charlwood QLD Australia;X-APPLE-RADIUS=500;X-TITLE=83 Scholl Rd:geo:152.5804525,-27.9867708
END:VEVENT
BEGIN:VEVENT
DTSTART;TZID=Australia/Brisbane:20260630T090000
DTEND;TZID=Australia/Brisbane:20260630T130000
DTSTAMP:20260420T215801
CREATED:20260414T172130Z
LAST-MODIFIED:20260416T062139Z
UID:10003757-1782810000-1782824400@www.eatlocalmonth.com.au
SUMMARY:Veggie Picking with the Farmer
DESCRIPTION:Experience a hands-on day at Valley Pride Produce\, a fifth-generation family farm. Join the Scholl family\, who have been growing vegetables on this land for over a century\, with the sixth generation now proudly carrying on the legacy. Wander the paddocks alongside the family\, watch fresh produce being picked and harvested\, then roll up your sleeves to dig seasonal vegetables straight from the soil. \nThis family-friendly on-farm experience offers a genuine insight into life on the land and the journey from paddock-to-plate. Children will love getting their hands dirty and discovering where their food comes from\, while adults can pick up practical tips for growing\, cooking\, and living more locally. \nWith a deep respect for the land\, everything grown on the farm is thoughtfully used\, with produce transformed into conserves\, infusions\, and baked goods to minimise waste. \nRound off the day by taking home your handpicked vegetables for a fresh\, homegrown feast.
URL:https://www.eatlocalmonth.com.au/event/veggie-picking-with-the-farmer/2026-06-30/?category=family-friendly
LOCATION:Valley Pride Produce\, 83 Scholl Rd\, Charlwood\, QLD\, Australia
CATEGORIES:Family Friendly,On Farm Adventures,Winter Harvest Weekend
ATTACH;FMTTYPE=image/jpeg:https://www.eatlocalmonth.com.au/wp-content/uploads/2026/04/veggie-picking-with-the-farmer-eat-local-month.jpg
ORGANIZER;CN="Valley Pride Produce":MAILTO:antsfruit@hotmail.com
GEO:-27.9867708;152.5804525
X-APPLE-STRUCTURED-LOCATION;VALUE=URI;X-ADDRESS=Valley Pride Produce 83 Scholl Rd Charlwood QLD Australia;X-APPLE-RADIUS=500;X-TITLE=83 Scholl Rd:geo:152.5804525,-27.9867708
END:VEVENT
END:VCALENDAR