BEGIN:VCALENDAR
VERSION:2.0
PRODID:-//Eat Local Month 2026 - ECPv6.15.20//NONSGML v1.0//EN
CALSCALE:GREGORIAN
METHOD:PUBLISH
X-WR-CALNAME:Eat Local Month 2026
X-ORIGINAL-URL:https://www.eatlocalmonth.com.au
X-WR-CALDESC:Events for Eat Local Month 2026
REFRESH-INTERVAL;VALUE=DURATION:PT1H
X-Robots-Tag:noindex
X-PUBLISHED-TTL:PT1H
BEGIN:VTIMEZONE
TZID:Australia/Brisbane
BEGIN:STANDARD
TZOFFSETFROM:+1000
TZOFFSETTO:+1000
TZNAME:AEST
DTSTART:20250101T000000
END:STANDARD
END:VTIMEZONE
BEGIN:VEVENT
DTSTART;TZID=Australia/Brisbane:20260620T100000
DTEND;TZID=Australia/Brisbane:20260620T123000
DTSTAMP:20260420T235716
CREATED:20260414T172129Z
LAST-MODIFIED:20260415T143740Z
UID:10003699-1781949600-1781958600@www.eatlocalmonth.com.au
SUMMARY:Scenic Rim Bees and Cheese
DESCRIPTION:Discover the magic that happens when two artisan worlds come together. Hosted at the picturesque Towri Sheep Cheeses and guided by Jason from Bee All Natural\, this hands-on Bees and Cheese experience takes you from the buzz of the hive to the indulgence of a handcrafted cheeseboard. \nBegin by suiting up and stepping into a working hive\, learning how a colony thrives while safely observing the bees up close. With expert guidance\, extract fresh honey straight from the frame\, warm and bursting with unique floral notes from the Queensland hinterland. \nThen move to Towri’s beautiful farm setting for a tasting of their award-winning artisan sheep cheeses. Explore how the delicate sweetness of freshly harvested honey enhances each cheese\, creating pairings that celebrate the very best of local produce and craftsmanship. \nThis immersive experience blends sustainable beekeeping with artisan cheese-making\, offering a true hive-to-cheeseboard adventure. Guests leave with a jar of honey\, new skills\, and a story to share. \nCome for the bees. Stay for the cheese. Take home the magic.
URL:https://www.eatlocalmonth.com.au/event/scenic-rim-bees-and-cheese/2026-06-20/?category=family-friendly
LOCATION:Towri Sheep Cheeses\, 206 Saville Rd\, Allenview\, QLD\, Australia
CATEGORIES:Family Friendly,Workshops & Experiences
ATTACH;FMTTYPE=image/jpeg:https://www.eatlocalmonth.com.au/wp-content/uploads/2026/04/scenic-rim-bees-and-cheese-eat-local-month.jpg
ORGANIZER;CN="Bee All Natural":MAILTO:info@beeallnatural.com.au
GEO:-27.8891249;152.9181614
X-APPLE-STRUCTURED-LOCATION;VALUE=URI;X-ADDRESS=Towri Sheep Cheeses 206 Saville Rd Allenview QLD Australia;X-APPLE-RADIUS=500;X-TITLE=206 Saville Rd:geo:152.9181614,-27.8891249
END:VEVENT
BEGIN:VEVENT
DTSTART;TZID=Australia/Brisbane:20260621T100000
DTEND;TZID=Australia/Brisbane:20260621T123000
DTSTAMP:20260420T235716
CREATED:20260414T172129Z
LAST-MODIFIED:20260415T143740Z
UID:10003769-1782036000-1782045000@www.eatlocalmonth.com.au
SUMMARY:Scenic Rim Bees and Cheese
DESCRIPTION:Discover the magic that happens when two artisan worlds come together. Hosted at the picturesque Towri Sheep Cheeses and guided by Jason from Bee All Natural\, this hands-on Bees and Cheese experience takes you from the buzz of the hive to the indulgence of a handcrafted cheeseboard. \nBegin by suiting up and stepping into a working hive\, learning how a colony thrives while safely observing the bees up close. With expert guidance\, extract fresh honey straight from the frame\, warm and bursting with unique floral notes from the Queensland hinterland. \nThen move to Towri’s beautiful farm setting for a tasting of their award-winning artisan sheep cheeses. Explore how the delicate sweetness of freshly harvested honey enhances each cheese\, creating pairings that celebrate the very best of local produce and craftsmanship. \nThis immersive experience blends sustainable beekeeping with artisan cheese-making\, offering a true hive-to-cheeseboard adventure. Guests leave with a jar of honey\, new skills\, and a story to share. \nCome for the bees. Stay for the cheese. Take home the magic.
URL:https://www.eatlocalmonth.com.au/event/scenic-rim-bees-and-cheese/2026-06-21/?category=family-friendly
LOCATION:Towri Sheep Cheeses\, 206 Saville Rd\, Allenview\, QLD\, Australia
CATEGORIES:Family Friendly,Workshops & Experiences
ATTACH;FMTTYPE=image/jpeg:https://www.eatlocalmonth.com.au/wp-content/uploads/2026/04/scenic-rim-bees-and-cheese-eat-local-month.jpg
ORGANIZER;CN="Bee All Natural":MAILTO:info@beeallnatural.com.au
GEO:-27.8891249;152.9181614
X-APPLE-STRUCTURED-LOCATION;VALUE=URI;X-ADDRESS=Towri Sheep Cheeses 206 Saville Rd Allenview QLD Australia;X-APPLE-RADIUS=500;X-TITLE=206 Saville Rd:geo:152.9181614,-27.8891249
END:VEVENT
BEGIN:VEVENT
DTSTART;TZID=Australia/Brisbane:20260624T110000
DTEND;TZID=Australia/Brisbane:20260624T140000
DTSTAMP:20260420T235717
CREATED:20260414T172129Z
LAST-MODIFIED:20260415T143740Z
UID:10003705-1782298800-1782309600@www.eatlocalmonth.com.au
SUMMARY:The Next Generation Homegrown Lunch
DESCRIPTION:Beaudesert State High School proudly presents its signature Eat Local Month 2026 event: a fully student-led “Farm to Fork” dining experience celebrating the Scenic Rim’s food\, culture\, and community. \nDesigned and delivered by students across Agriculture\, Hospitality\, Business\, and Arts programs\, this immersive event showcases real-world skills\, creativity\, and innovation. \nStudents raise livestock\, cultivate fruits and vegetables\, manage sustainability practices\, and prepare and serve every dish\, ensuring all ingredients are local\, ethical\, and fresh. With most produce travelling less than 15 kilometres from paddock to plate\, the event demonstrates ultra-low food miles and environmental responsibility in action. \nEach dish tells a story\, connecting the region’s fertile volcanic soils\, Indigenous heritage\, community history\, and student journeys. Arts and Music students bring the event to life with live performances and visual installations\, while Business students oversee marketing\, logistics\, and communications. \nStudent-led enterprises\, including honey and egg production\, extend the farm-to-fork journey and celebrate local enterprise and initiative. Guided by award-winning staff\, every element is authentic\, professional\, and entirely student-produced\, creating a vibrant showcase of talent\, learning\, and community spirit.
URL:https://www.eatlocalmonth.com.au/event/the-next-generation-homegrown-lunch/?category=lunches-and-dinners
LOCATION:Towri Sheep Cheeses\, 206 Saville Rd\, Allenview\, QLD\, Australia
CATEGORIES:Lunches & Dinners
ATTACH;FMTTYPE=image/jpeg:https://www.eatlocalmonth.com.au/wp-content/uploads/2026/04/the-next-generation-homegrown-lunch-eat-local-month.jpg
ORGANIZER;CN="Beaudesert State High School":MAILTO:raluc0@eq.edu.au
GEO:-27.8891249;152.9181614
X-APPLE-STRUCTURED-LOCATION;VALUE=URI;X-ADDRESS=Towri Sheep Cheeses 206 Saville Rd Allenview QLD Australia;X-APPLE-RADIUS=500;X-TITLE=206 Saville Rd:geo:152.9181614,-27.8891249
END:VEVENT
END:VCALENDAR